BEGIN:VCALENDAR
VERSION:2.0
PRODID:-//Anthem Scouting - ECPv6.15.20//NONSGML v1.0//EN
CALSCALE:GREGORIAN
METHOD:PUBLISH
X-WR-CALNAME:Anthem Scouting
X-ORIGINAL-URL:https://anthemscouting.com
X-WR-CALDESC:Events for Anthem Scouting
REFRESH-INTERVAL;VALUE=DURATION:PT1H
X-Robots-Tag:noindex
X-PUBLISHED-TTL:PT1H
BEGIN:VTIMEZONE
TZID:America/Phoenix
BEGIN:STANDARD
TZOFFSETFROM:-0700
TZOFFSETTO:-0700
TZNAME:MST
DTSTART:20230101T000000
END:STANDARD
END:VTIMEZONE
BEGIN:VEVENT
DTSTART;TZID=America/Phoenix:20241105T180000
DTEND;TZID=America/Phoenix:20241105T190000
DTSTAMP:20260424T010222
CREATED:20240717T172101Z
LAST-MODIFIED:20240717T172224Z
UID:255275-1730829600-1730833200@anthemscouting.com
SUMMARY:Den Meetings
DESCRIPTION:Our Den meetings are typically the 1st and 3rd Tuesday of the month.
URL:https://anthemscouting.com/event/den-meetings-2024-11-05/
LOCATION:Ridgeline Highschool / Cross of Christ Church\, 39808 N Gavilan Peak Pkwy\, Anthem\, AZ\, 85086\, United States
CATEGORIES:Cub Scouts,Den Meeting
ATTACH;FMTTYPE=image/jpeg:https://anthemscouting.com/wp-content/uploads/2022/07/Pack-247-Pack-Meeting-cover-900x600-blue.jpg
END:VEVENT
BEGIN:VEVENT
DTSTART;TZID=America/Phoenix:20241112T183000
DTEND;TZID=America/Phoenix:20241112T193000
DTSTAMP:20260424T010222
CREATED:20240717T174304Z
LAST-MODIFIED:20240717T191642Z
UID:255302-1731436200-1731439800@anthemscouting.com
SUMMARY:Pack Leadership Meeting
DESCRIPTION:Feel free to join the Pack Leadership Meeting via Zoom.
URL:https://anthemscouting.com/event/pack-leadership-meeting-2024-11-12/
LOCATION:Zoom call
CATEGORIES:Cub Scouts,Pack Leadership Meeting
ATTACH;FMTTYPE=image/jpeg:https://anthemscouting.com/wp-content/uploads/2022/09/Anthem-Scouting-Event-Pack-Leadership-Meeting.jpg
END:VEVENT
BEGIN:VEVENT
DTSTART;TZID=America/Phoenix:20241119T180000
DTEND;TZID=America/Phoenix:20241119T190000
DTSTAMP:20260424T010222
CREATED:20240717T172115Z
LAST-MODIFIED:20240717T172230Z
UID:255276-1732039200-1732042800@anthemscouting.com
SUMMARY:Den Meetings
DESCRIPTION:Our Den meetings are typically the 1st and 3rd Tuesday of the month.
URL:https://anthemscouting.com/event/den-meetings-2024-11-19/
LOCATION:Ridgeline Highschool / Cross of Christ Church\, 39808 N Gavilan Peak Pkwy\, Anthem\, AZ\, 85086\, United States
CATEGORIES:Cub Scouts,Den Meeting
ATTACH;FMTTYPE=image/jpeg:https://anthemscouting.com/wp-content/uploads/2022/07/Pack-247-Pack-Meeting-cover-900x600-blue.jpg
END:VEVENT
BEGIN:VEVENT
DTSTART;VALUE=DATE:20241126
DTEND;VALUE=DATE:20241127
DTSTAMP:20260424T010222
CREATED:20240717T173053Z
LAST-MODIFIED:20240717T173053Z
UID:255290-1732579200-1732665599@anthemscouting.com
SUMMARY:NO Pack Meeting
DESCRIPTION:THERE IS NO PACK MEETING
URL:https://anthemscouting.com/event/no-pack-meeting-2024-11-26/
LOCATION:TBD
CATEGORIES:Cub Scouts,No Meeting,Pack Meeting
ATTACH;FMTTYPE=image/jpeg:https://anthemscouting.com/wp-content/uploads/2023/02/No-Meeting.jpg
END:VEVENT
END:VCALENDAR