BEGIN:VCALENDAR
VERSION:2.0
PRODID:-//Anthem Scouting - ECPv6.15.20//NONSGML v1.0//EN
CALSCALE:GREGORIAN
METHOD:PUBLISH
X-ORIGINAL-URL:https://anthemscouting.com
X-WR-CALDESC:Events for Anthem Scouting
REFRESH-INTERVAL;VALUE=DURATION:PT1H
X-Robots-Tag:noindex
X-PUBLISHED-TTL:PT1H
BEGIN:VTIMEZONE
TZID:America/Phoenix
BEGIN:STANDARD
TZOFFSETFROM:-0700
TZOFFSETTO:-0700
TZNAME:MST
DTSTART:20220101T000000
END:STANDARD
END:VTIMEZONE
BEGIN:VEVENT
DTSTART;TZID=America/Phoenix:20231017T180000
DTEND;TZID=America/Phoenix:20231017T190000
DTSTAMP:20260421T104649
CREATED:20230625T233338Z
LAST-MODIFIED:20230625T233338Z
UID:254875-1697565600-1697569200@anthemscouting.com
SUMMARY:Den Meetings
DESCRIPTION:Our Den meetings are typically the 1st and 3rd Tuesday of the month.
URL:https://anthemscouting.com/event/den-meetings-2023-10-17/
LOCATION:Ridgeline Highschool / Cross of Christ Church\, 39808 N Gavilan Peak Pkwy\, Anthem\, AZ\, 85086\, United States
CATEGORIES:Cub Scouts,Den Meeting
ATTACH;FMTTYPE=image/jpeg:https://anthemscouting.com/wp-content/uploads/2022/07/Pack-247-Pack-Meeting-cover-900x600-blue.jpg
END:VEVENT
BEGIN:VEVENT
DTSTART;TZID=America/Phoenix:20231010T190000
DTEND;TZID=America/Phoenix:20231010T200000
DTSTAMP:20260421T104649
CREATED:20230625T233646Z
LAST-MODIFIED:20230625T233646Z
UID:254885-1696964400-1696968000@anthemscouting.com
SUMMARY:Pack Leadership Meeting
DESCRIPTION:The Pack Leadership Meeting will be held at Cross of Christ Church or you can join via Zoom.
URL:https://anthemscouting.com/event/pack-leadership-meeting-2023-10-10/
LOCATION:Ridgeline Highschool / Cross of Christ Church\, 39808 N Gavilan Peak Pkwy\, Anthem\, AZ\, 85086\, United States
CATEGORIES:Cub Scouts,Pack Leadership Meeting
ATTACH;FMTTYPE=image/jpeg:https://anthemscouting.com/wp-content/uploads/2022/09/Anthem-Scouting-Event-Pack-Leadership-Meeting.jpg
END:VEVENT
BEGIN:VEVENT
DTSTART;TZID=America/Phoenix:20231003T180000
DTEND;TZID=America/Phoenix:20231003T190000
DTSTAMP:20260421T104649
CREATED:20230625T233243Z
LAST-MODIFIED:20230625T233359Z
UID:254873-1696356000-1696359600@anthemscouting.com
SUMMARY:Den Meetings
DESCRIPTION:Our Den meetings are typically the 1st and 3rd Tuesday of the month. \n***NOTE***\nThe meetings will be at an alternate location as our usual location is not available.  Please confirm the location with your Den Leader.
URL:https://anthemscouting.com/event/den-meetings-2023-10-03/
LOCATION:Ridgeline Highschool / Cross of Christ Church\, 39808 N Gavilan Peak Pkwy\, Anthem\, AZ\, 85086\, United States
CATEGORIES:Cub Scouts,Den Meeting
ATTACH;FMTTYPE=image/jpeg:https://anthemscouting.com/wp-content/uploads/2022/07/Pack-247-Pack-Meeting-cover-900x600-blue.jpg
END:VEVENT
BEGIN:VEVENT
DTSTART;TZID=America/Phoenix:20230930T140000
DTEND;TZID=America/Phoenix:20231001T120000
DTSTAMP:20260421T104649
CREATED:20230625T234323Z
LAST-MODIFIED:20230913T022320Z
UID:254891-1696082400-1696161600@anthemscouting.com
SUMMARY:Pack Family Campout - Camp Geronimo
DESCRIPTION:Our campout will be at Camp Geronimo this year\, this is the Boy Scout camp in Payson. \nLeaders to arrive at 1pm\nScouts and families at 2pm \nWe are at campsite 13. It is a 8-12 minute walk from the parking lot. We can\, however\, drive down to the site to drop off our camping gear. \nEach den will be performing a skit\, make sure to have it ready for the group!
URL:https://anthemscouting.com/event/pack-family-campout-2023-09/
LOCATION:Camp Geronimo\, 2599 W Webber Creek Road\, Payson\, AZ\, 85541\, United States
CATEGORIES:Campout,Cub Scouts
ATTACH;FMTTYPE=image/jpeg:https://anthemscouting.com/wp-content/uploads/2022/08/Event-Camping.jpg
END:VEVENT
BEGIN:VEVENT
DTSTART;TZID=America/Phoenix:20230919T180000
DTEND;TZID=America/Phoenix:20230919T190000
DTSTAMP:20260421T104649
CREATED:20230625T233142Z
LAST-MODIFIED:20230625T233142Z
UID:254871-1695146400-1695150000@anthemscouting.com
SUMMARY:Den Meetings
DESCRIPTION:Our Den meetings are typically the 1st and 3rd Tuesday of the month.
URL:https://anthemscouting.com/event/den-meetings-2023-09-19/
LOCATION:Ridgeline Highschool / Cross of Christ Church\, 39808 N Gavilan Peak Pkwy\, Anthem\, AZ\, 85086\, United States
CATEGORIES:Cub Scouts,Den Meeting
ATTACH;FMTTYPE=image/jpeg:https://anthemscouting.com/wp-content/uploads/2022/07/Pack-247-Pack-Meeting-cover-900x600-blue.jpg
END:VEVENT
BEGIN:VEVENT
DTSTART;TZID=America/Phoenix:20230912T190000
DTEND;TZID=America/Phoenix:20230912T200000
DTSTAMP:20260421T104649
CREATED:20230625T233621Z
LAST-MODIFIED:20230625T233621Z
UID:254883-1694545200-1694548800@anthemscouting.com
SUMMARY:Pack Leadership Meeting
DESCRIPTION:The Pack Leadership Meeting will be held at Cross of Christ Church or you can join via Zoom.
URL:https://anthemscouting.com/event/pack-leadership-meeting-2023-09-12/
LOCATION:Ridgeline Highschool / Cross of Christ Church\, 39808 N Gavilan Peak Pkwy\, Anthem\, AZ\, 85086\, United States
CATEGORIES:Cub Scouts,Pack Leadership Meeting
ATTACH;FMTTYPE=image/jpeg:https://anthemscouting.com/wp-content/uploads/2022/09/Anthem-Scouting-Event-Pack-Leadership-Meeting.jpg
END:VEVENT
BEGIN:VEVENT
DTSTART;TZID=America/Phoenix:20230905T180000
DTEND;TZID=America/Phoenix:20230905T190000
DTSTAMP:20260421T104649
CREATED:20230625T233115Z
LAST-MODIFIED:20230625T233115Z
UID:254869-1693936800-1693940400@anthemscouting.com
SUMMARY:Den Meetings
DESCRIPTION:Our Den meetings are typically the 1st and 3rd Tuesday of the month.
URL:https://anthemscouting.com/event/den-meetings-2023-09-05/
LOCATION:Ridgeline Highschool / Cross of Christ Church\, 39808 N Gavilan Peak Pkwy\, Anthem\, AZ\, 85086\, United States
CATEGORIES:Cub Scouts,Den Meeting
ATTACH;FMTTYPE=image/jpeg:https://anthemscouting.com/wp-content/uploads/2022/07/Pack-247-Pack-Meeting-cover-900x600-blue.jpg
END:VEVENT
BEGIN:VEVENT
DTSTART;TZID=America/Phoenix:20230829T180000
DTEND;TZID=America/Phoenix:20230829T190000
DTSTAMP:20260421T104649
CREATED:20230625T233838Z
LAST-MODIFIED:20230625T233838Z
UID:254889-1693332000-1693335600@anthemscouting.com
SUMMARY:Pack Meeting
DESCRIPTION:Stay tuned for more details!
URL:https://anthemscouting.com/event/pack-meeting-2023-08-29/
LOCATION:Ridgeline Highschool / Cross of Christ Church\, 39808 N Gavilan Peak Pkwy\, Anthem\, AZ\, 85086\, United States
CATEGORIES:Cub Scouts,Pack Meeting
ATTACH;FMTTYPE=image/jpeg:https://anthemscouting.com/wp-content/uploads/2022/09/Anthem-Scouting-Event-Pack-Meeting-900x600-1.jpg
END:VEVENT
BEGIN:VEVENT
DTSTART;TZID=America/Phoenix:20230815T180000
DTEND;TZID=America/Phoenix:20230815T190000
DTSTAMP:20260421T104649
CREATED:20230625T233042Z
LAST-MODIFIED:20230625T233042Z
UID:254867-1692122400-1692126000@anthemscouting.com
SUMMARY:Den Meetings
DESCRIPTION:Our Den meetings are typically the 1st and 3rd Tuesday of the month.
URL:https://anthemscouting.com/event/den-meetings-2023-08-15/
LOCATION:Ridgeline Highschool / Cross of Christ Church\, 39808 N Gavilan Peak Pkwy\, Anthem\, AZ\, 85086\, United States
CATEGORIES:Cub Scouts,Den Meeting
ATTACH;FMTTYPE=image/jpeg:https://anthemscouting.com/wp-content/uploads/2022/07/Pack-247-Pack-Meeting-cover-900x600-blue.jpg
END:VEVENT
BEGIN:VEVENT
DTSTART;TZID=America/Phoenix:20230808T190000
DTEND;TZID=America/Phoenix:20230808T200000
DTSTAMP:20260421T104649
CREATED:20230625T233559Z
LAST-MODIFIED:20230625T233559Z
UID:254881-1691521200-1691524800@anthemscouting.com
SUMMARY:Pack Leadership Meeting
DESCRIPTION:The Pack Leadership Meeting will be held at Cross of Christ Church or you can join via Zoom.
URL:https://anthemscouting.com/event/pack-leadership-meeting-2023-08-08/
LOCATION:Ridgeline Highschool / Cross of Christ Church\, 39808 N Gavilan Peak Pkwy\, Anthem\, AZ\, 85086\, United States
CATEGORIES:Cub Scouts,Pack Leadership Meeting
ATTACH;FMTTYPE=image/jpeg:https://anthemscouting.com/wp-content/uploads/2022/09/Anthem-Scouting-Event-Pack-Leadership-Meeting.jpg
END:VEVENT
BEGIN:VEVENT
DTSTART;TZID=America/Phoenix:20230801T180000
DTEND;TZID=America/Phoenix:20230801T190000
DTSTAMP:20260421T104649
CREATED:20230625T232930Z
LAST-MODIFIED:20230625T232930Z
UID:254865-1690912800-1690916400@anthemscouting.com
SUMMARY:Den Meetings
DESCRIPTION:Our Den meetings are typically the 1st and 3rd Tuesday of the month.
URL:https://anthemscouting.com/event/den-meetings-2023-08-01/
LOCATION:Ridgeline Highschool / Cross of Christ Church\, 39808 N Gavilan Peak Pkwy\, Anthem\, AZ\, 85086\, United States
CATEGORIES:Cub Scouts,Den Meeting
ATTACH;FMTTYPE=image/jpeg:https://anthemscouting.com/wp-content/uploads/2022/07/Pack-247-Pack-Meeting-cover-900x600-blue.jpg
END:VEVENT
BEGIN:VEVENT
DTSTART;TZID=America/Phoenix:20230725T180000
DTEND;TZID=America/Phoenix:20230725T190000
DTSTAMP:20260421T104649
CREATED:20230623T122402Z
LAST-MODIFIED:20230623T122402Z
UID:254812-1690308000-1690311600@anthemscouting.com
SUMMARY:Cub Scout Pack 247 Info Night and Fire Truck Spray Down
DESCRIPTION:Are you interested in learning more about Cub Scouts? We’d love to have you join us for one of our favorite nights of the year!! \nWe will have a short Pack meeting\, followed by a spray down by the Daisy Mountain Fire Department!!! \nPack leadership will be available to answer questions from families. \nWe will meet in the Commons\, which is by the north side of the parking lot. \nDon’t want to get wet? Don’t worry! Kids control how wet they get and it’s a fun time\, even for those who stay dry. \nBring a towel and wear a bathing suit or clothes you are okay getting wet in! Siblings are welcome to come and join in the fun!
URL:https://anthemscouting.com/event/cub-scout-pack-247-info-night-and-fire-truck-spray-down/
LOCATION:Ridgeline Highschool / Cross of Christ Church\, 39808 N Gavilan Peak Pkwy\, Anthem\, AZ\, 85086\, United States
CATEGORIES:Cub Scouts,Recruiting,Special Event
ATTACH;FMTTYPE=image/jpeg:https://anthemscouting.com/wp-content/uploads/2022/07/Pack247-Events-Firetruck.jpg
END:VEVENT
BEGIN:VEVENT
DTSTART;TZID=America/Phoenix:20230516T180000
DTEND;TZID=America/Phoenix:20230516T190000
DTSTAMP:20260421T104649
CREATED:20230103T231949Z
LAST-MODIFIED:20230103T232000Z
UID:254188-1684260000-1684263600@anthemscouting.com
SUMMARY:Pack Meeting - Crossover
DESCRIPTION:Our end-of-the-year Pack Meeting where we celebrate the accomplishments of all of our Scouts as they crossover to the next rank!
URL:https://anthemscouting.com/event/pack-meeting2023-05-16/
LOCATION:Ridgeline Highschool / Cross of Christ Church\, 39808 N Gavilan Peak Pkwy\, Anthem\, AZ\, 85086\, United States
CATEGORIES:Cub Scouts,Pack Meeting
ATTACH;FMTTYPE=image/jpeg:https://anthemscouting.com/wp-content/uploads/2022/09/Anthem-Scouting-Event-Pack-Meeting-900x600-1.jpg
END:VEVENT
BEGIN:VEVENT
DTSTART;TZID=America/Phoenix:20230516T180000
DTEND;TZID=America/Phoenix:20230516T190000
DTSTAMP:20260421T104649
CREATED:20230103T225945Z
LAST-MODIFIED:20230103T225945Z
UID:254178-1684260000-1684263600@anthemscouting.com
SUMMARY:Den Meeting
DESCRIPTION:Our Den meetings are typically the 1st and 3rd Tuesday of the month.
URL:https://anthemscouting.com/event/den-meeting-2023-05-16/
LOCATION:Ridgeline Highschool / Cross of Christ Church\, 39808 N Gavilan Peak Pkwy\, Anthem\, AZ\, 85086\, United States
CATEGORIES:Cub Scouts,Den Meeting
ATTACH;FMTTYPE=image/jpeg:https://anthemscouting.com/wp-content/uploads/2022/07/Pack-247-Pack-Meeting-cover-900x600-blue.jpg
END:VEVENT
BEGIN:VEVENT
DTSTART;TZID=America/Phoenix:20230502T180000
DTEND;TZID=America/Phoenix:20230502T190000
DTSTAMP:20260421T104649
CREATED:20230103T225931Z
LAST-MODIFIED:20230103T225931Z
UID:254177-1683050400-1683054000@anthemscouting.com
SUMMARY:Den Meeting
DESCRIPTION:Our Den meetings are typically the 1st and 3rd Tuesday of the month.
URL:https://anthemscouting.com/event/den-meeting-2023-05-02/
LOCATION:Ridgeline Highschool / Cross of Christ Church\, 39808 N Gavilan Peak Pkwy\, Anthem\, AZ\, 85086\, United States
CATEGORIES:Cub Scouts,Den Meeting
ATTACH;FMTTYPE=image/jpeg:https://anthemscouting.com/wp-content/uploads/2022/07/Pack-247-Pack-Meeting-cover-900x600-blue.jpg
END:VEVENT
BEGIN:VEVENT
DTSTART;TZID=America/Phoenix:20230418T180000
DTEND;TZID=America/Phoenix:20230418T190000
DTSTAMP:20260421T104649
CREATED:20230103T225829Z
LAST-MODIFIED:20230103T225829Z
UID:254174-1681840800-1681844400@anthemscouting.com
SUMMARY:Den Meeting
DESCRIPTION:Our Den meetings are typically the 1st and 3rd Tuesday of the month.
URL:https://anthemscouting.com/event/den-meeting-2023-04-18/
LOCATION:Ridgeline Highschool / Cross of Christ Church\, 39808 N Gavilan Peak Pkwy\, Anthem\, AZ\, 85086\, United States
CATEGORIES:Cub Scouts,Den Meeting
ATTACH;FMTTYPE=image/jpeg:https://anthemscouting.com/wp-content/uploads/2022/07/Pack-247-Pack-Meeting-cover-900x600-blue.jpg
END:VEVENT
BEGIN:VEVENT
DTSTART;TZID=America/Phoenix:20230411T190000
DTEND;TZID=America/Phoenix:20230411T200000
DTSTAMP:20260421T104649
CREATED:20230110T004132Z
LAST-MODIFIED:20230110T004132Z
UID:254281-1681239600-1681243200@anthemscouting.com
SUMMARY:Pack Leadership Meeting
DESCRIPTION:The Pack Leadership Meeting will be held at Cross of Christ Church or you can join via Zoom.
URL:https://anthemscouting.com/event/pack-leadership-meeting-2023-04-11/
LOCATION:Ridgeline Highschool / Cross of Christ Church\, 39808 N Gavilan Peak Pkwy\, Anthem\, AZ\, 85086\, United States
CATEGORIES:Cub Scouts,Pack Leadership Meeting
ATTACH;FMTTYPE=image/jpeg:https://anthemscouting.com/wp-content/uploads/2022/09/Anthem-Scouting-Event-Pack-Leadership-Meeting.jpg
END:VEVENT
BEGIN:VEVENT
DTSTART;TZID=America/Phoenix:20230404T180000
DTEND;TZID=America/Phoenix:20230404T190000
DTSTAMP:20260421T104649
CREATED:20230103T225818Z
LAST-MODIFIED:20230103T225818Z
UID:254173-1680631200-1680634800@anthemscouting.com
SUMMARY:Den Meeting
DESCRIPTION:Our Den meetings are typically the 1st and 3rd Tuesday of the month.
URL:https://anthemscouting.com/event/den-meeting-2023-04-04/
LOCATION:Ridgeline Highschool / Cross of Christ Church\, 39808 N Gavilan Peak Pkwy\, Anthem\, AZ\, 85086\, United States
CATEGORIES:Cub Scouts,Den Meeting
ATTACH;FMTTYPE=image/jpeg:https://anthemscouting.com/wp-content/uploads/2022/07/Pack-247-Pack-Meeting-cover-900x600-blue.jpg
END:VEVENT
BEGIN:VEVENT
DTSTART;TZID=America/Phoenix:20230328T180000
DTEND;TZID=America/Phoenix:20230328T190000
DTSTAMP:20260421T104649
CREATED:20220815T183522Z
LAST-MODIFIED:20220913T231133Z
UID:252818-1680026400-1680030000@anthemscouting.com
SUMMARY:Pack Meeting
DESCRIPTION:Stay tuned for more details!
URL:https://anthemscouting.com/event/pack-meeting-2023-03-28/
LOCATION:Ridgeline Highschool / Cross of Christ Church\, 39808 N Gavilan Peak Pkwy\, Anthem\, AZ\, 85086\, United States
CATEGORIES:Cub Scouts,Pack Meeting
ATTACH;FMTTYPE=image/jpeg:https://anthemscouting.com/wp-content/uploads/2022/09/Anthem-Scouting-Event-Pack-Meeting-900x600-1.jpg
END:VEVENT
BEGIN:VEVENT
DTSTART;TZID=America/Phoenix:20230321T180000
DTEND;TZID=America/Phoenix:20230321T190000
DTSTAMP:20260421T104649
CREATED:20230103T225734Z
LAST-MODIFIED:20230103T225734Z
UID:254170-1679421600-1679425200@anthemscouting.com
SUMMARY:Den Meeting
DESCRIPTION:Our Den meetings are typically the 1st and 3rd Tuesday of the month.
URL:https://anthemscouting.com/event/den-meeting-2023-03-21/
LOCATION:Ridgeline Highschool / Cross of Christ Church\, 39808 N Gavilan Peak Pkwy\, Anthem\, AZ\, 85086\, United States
CATEGORIES:Cub Scouts,Den Meeting
ATTACH;FMTTYPE=image/jpeg:https://anthemscouting.com/wp-content/uploads/2022/07/Pack-247-Pack-Meeting-cover-900x600-blue.jpg
END:VEVENT
BEGIN:VEVENT
DTSTART;TZID=America/Phoenix:20230314T190000
DTEND;TZID=America/Phoenix:20230314T200000
DTSTAMP:20260421T104649
CREATED:20230110T004115Z
LAST-MODIFIED:20230110T004115Z
UID:254279-1678820400-1678824000@anthemscouting.com
SUMMARY:Pack Leadership Meeting
DESCRIPTION:The Pack Leadership Meeting will be held at Cross of Christ Church or you can join via Zoom.
URL:https://anthemscouting.com/event/pack-leadership-meeting-2023-03-14/
LOCATION:Ridgeline Highschool / Cross of Christ Church\, 39808 N Gavilan Peak Pkwy\, Anthem\, AZ\, 85086\, United States
CATEGORIES:Cub Scouts,Pack Leadership Meeting
ATTACH;FMTTYPE=image/jpeg:https://anthemscouting.com/wp-content/uploads/2022/09/Anthem-Scouting-Event-Pack-Leadership-Meeting.jpg
END:VEVENT
BEGIN:VEVENT
DTSTART;TZID=America/Phoenix:20230307T180000
DTEND;TZID=America/Phoenix:20230307T190000
DTSTAMP:20260421T104649
CREATED:20230103T225720Z
LAST-MODIFIED:20230103T225720Z
UID:254169-1678212000-1678215600@anthemscouting.com
SUMMARY:Den Meeting
DESCRIPTION:Our Den meetings are typically the 1st and 3rd Tuesday of the month.
URL:https://anthemscouting.com/event/den-meeting-2023-03-07/
LOCATION:Ridgeline Highschool / Cross of Christ Church\, 39808 N Gavilan Peak Pkwy\, Anthem\, AZ\, 85086\, United States
CATEGORIES:Cub Scouts,Den Meeting
ATTACH;FMTTYPE=image/jpeg:https://anthemscouting.com/wp-content/uploads/2022/07/Pack-247-Pack-Meeting-cover-900x600-blue.jpg
END:VEVENT
BEGIN:VEVENT
DTSTART;TZID=America/Phoenix:20230228T173000
DTEND;TZID=America/Phoenix:20230228T190000
DTSTAMP:20260421T104649
CREATED:20220815T183419Z
LAST-MODIFIED:20230217T033755Z
UID:252816-1677605400-1677610800@anthemscouting.com
SUMMARY:Pack Meeting - Blue & Gold Banquet
DESCRIPTION:Blue and Gold Banquets are a tradition in Cub Scout packs. They are a celebration of the anniversary of the founding of the BSA on February 8\, 1910\, and therefore usually take the place of the February pack meeting.
URL:https://anthemscouting.com/event/pack-meeting-2023-02-28/
LOCATION:Ridgeline Highschool / Cross of Christ Church\, 39808 N Gavilan Peak Pkwy\, Anthem\, AZ\, 85086\, United States
CATEGORIES:Cub Scouts,Pack Meeting,Special Event
ATTACH;FMTTYPE=image/jpeg:https://anthemscouting.com/wp-content/uploads/2022/09/Anthem-Scouting-Event-Pack-Meeting-900x600-1.jpg
END:VEVENT
BEGIN:VEVENT
DTSTART;TZID=America/Phoenix:20230221T180000
DTEND;TZID=America/Phoenix:20230221T190000
DTSTAMP:20260421T104649
CREATED:20230103T225532Z
LAST-MODIFIED:20230103T225532Z
UID:254167-1677002400-1677006000@anthemscouting.com
SUMMARY:Den Meeting
DESCRIPTION:Our Den meetings are typically the 1st and 3rd Tuesday of the month.
URL:https://anthemscouting.com/event/den-meeting-2023-02-21/
LOCATION:Ridgeline Highschool / Cross of Christ Church\, 39808 N Gavilan Peak Pkwy\, Anthem\, AZ\, 85086\, United States
CATEGORIES:Cub Scouts,Den Meeting
ATTACH;FMTTYPE=image/jpeg:https://anthemscouting.com/wp-content/uploads/2022/07/Pack-247-Pack-Meeting-cover-900x600-blue.jpg
END:VEVENT
BEGIN:VEVENT
DTSTART;TZID=America/Phoenix:20230214T190000
DTEND;TZID=America/Phoenix:20230214T200000
DTSTAMP:20260421T104649
CREATED:20230110T004056Z
LAST-MODIFIED:20230110T004056Z
UID:254277-1676401200-1676404800@anthemscouting.com
SUMMARY:Pack Leadership Meeting
DESCRIPTION:The Pack Leadership Meeting will be held at Cross of Christ Church or you can join via Zoom.
URL:https://anthemscouting.com/event/pack-leadership-meeting-2023-02-14/
LOCATION:Ridgeline Highschool / Cross of Christ Church\, 39808 N Gavilan Peak Pkwy\, Anthem\, AZ\, 85086\, United States
CATEGORIES:Cub Scouts,Pack Leadership Meeting
ATTACH;FMTTYPE=image/jpeg:https://anthemscouting.com/wp-content/uploads/2022/09/Anthem-Scouting-Event-Pack-Leadership-Meeting.jpg
END:VEVENT
BEGIN:VEVENT
DTSTART;TZID=America/Phoenix:20230207T180000
DTEND;TZID=America/Phoenix:20230207T190000
DTSTAMP:20260421T104649
CREATED:20230103T213707Z
LAST-MODIFIED:20230103T225438Z
UID:254151-1675792800-1675796400@anthemscouting.com
SUMMARY:Den Meeting
DESCRIPTION:Our Den meetings are typically the 1st and 3rd Tuesday of the month.
URL:https://anthemscouting.com/event/den-meeting-2023-02-07/
LOCATION:Ridgeline Highschool / Cross of Christ Church\, 39808 N Gavilan Peak Pkwy\, Anthem\, AZ\, 85086\, United States
CATEGORIES:Cub Scouts,Den Meeting
ATTACH;FMTTYPE=image/jpeg:https://anthemscouting.com/wp-content/uploads/2022/07/Pack-247-Pack-Meeting-cover-900x600-blue.jpg
END:VEVENT
BEGIN:VEVENT
DTSTART;TZID=America/Phoenix:20230121T080000
DTEND;TZID=America/Phoenix:20230121T120000
DTSTAMP:20260421T104649
CREATED:20220815T183223Z
LAST-MODIFIED:20230103T214243Z
UID:252813-1674288000-1674302400@anthemscouting.com
SUMMARY:Pinewood Derby Race Day
DESCRIPTION:We are so excited to be invited back to do our 2023 Pack 247 Pinewood Derby at Barrett Jackson again this year!\n\nHere is the schedule for the day.\n8:30 Arrive\n8:45 Introductions\n9:00 Racing Begins (Scouts)\n10:00 Family Races\n10:45 Scout Finals\n11:15 Awards\n11:30 Clean up
URL:https://anthemscouting.com/event/pinewood-derby-2023/
LOCATION:Ridgeline Highschool / Cross of Christ Church\, 39808 N Gavilan Peak Pkwy\, Anthem\, AZ\, 85086\, United States
CATEGORIES:Cub Scouts,Special Event
ATTACH;FMTTYPE=image/jpeg:https://anthemscouting.com/wp-content/uploads/2022/08/Anthem-Scouting-Event-Pinewood-Derby.jpg
END:VEVENT
BEGIN:VEVENT
DTSTART;TZID=America/Phoenix:20230120T190000
DTEND;TZID=America/Phoenix:20230120T200000
DTSTAMP:20260421T104649
CREATED:20230103T214609Z
LAST-MODIFIED:20230103T225309Z
UID:254158-1674241200-1674244800@anthemscouting.com
SUMMARY:Pinewood Derby Car Check-In
DESCRIPTION:To save some time on Saturday morning\, we’ll be checking in our cars on Friday evening. If you can’t make Friday evening\, just let me know another time during the week when you can come by to drop off and weigh in your car. \nContact your Den Leader for the location\, it is at a Leader’s house so we don’t want to list it publically.
URL:https://anthemscouting.com/event/pinewood-derby-2023-car-check-in/
LOCATION:Contact Your Den Leader
CATEGORIES:Cub Scouts,Special Event
ATTACH;FMTTYPE=image/jpeg:https://anthemscouting.com/wp-content/uploads/2022/08/Anthem-Scouting-Event-Pinewood-Derby.jpg
END:VEVENT
BEGIN:VEVENT
DTSTART;TZID=America/Phoenix:20230117T180000
DTEND;TZID=America/Phoenix:20230117T190000
DTSTAMP:20260421T104649
CREATED:20230105T172120Z
LAST-MODIFIED:20230105T172120Z
UID:254192-1673978400-1673982000@anthemscouting.com
SUMMARY:Den Meeting
DESCRIPTION:Our Den meetings are typically the 1st and 3rd Tuesday of the month.
URL:https://anthemscouting.com/event/den-meeting-2023-01-17-2/
LOCATION:Ridgeline Highschool / Cross of Christ Church\, 39808 N Gavilan Peak Pkwy\, Anthem\, AZ\, 85086\, United States
CATEGORIES:Cub Scouts,Den Meeting
ATTACH;FMTTYPE=image/jpeg:https://anthemscouting.com/wp-content/uploads/2022/07/Pack-247-Pack-Meeting-cover-900x600-blue.jpg
END:VEVENT
BEGIN:VEVENT
DTSTART;TZID=America/Phoenix:20230110T190000
DTEND;TZID=America/Phoenix:20230110T200000
DTSTAMP:20260421T104649
CREATED:20230110T003747Z
LAST-MODIFIED:20230110T003747Z
UID:254275-1673377200-1673380800@anthemscouting.com
SUMMARY:Pack Leadership Meeting
DESCRIPTION:The Pack Leadership Meeting will be held at Cross of Christ Church or you can join via Zoom.
URL:https://anthemscouting.com/event/pack-leadership-meeting-2023-01-10/
LOCATION:Ridgeline Highschool / Cross of Christ Church\, 39808 N Gavilan Peak Pkwy\, Anthem\, AZ\, 85086\, United States
CATEGORIES:Cub Scouts,Pack Leadership Meeting
ATTACH;FMTTYPE=image/jpeg:https://anthemscouting.com/wp-content/uploads/2022/09/Anthem-Scouting-Event-Pack-Leadership-Meeting.jpg
END:VEVENT
END:VCALENDAR