BEGIN:VCALENDAR
VERSION:2.0
PRODID:-//Anthem Scouting - ECPv6.15.20//NONSGML v1.0//EN
CALSCALE:GREGORIAN
METHOD:PUBLISH
X-ORIGINAL-URL:https://anthemscouting.com
X-WR-CALDESC:Events for Anthem Scouting
REFRESH-INTERVAL;VALUE=DURATION:PT1H
X-Robots-Tag:noindex
X-PUBLISHED-TTL:PT1H
BEGIN:VTIMEZONE
TZID:America/Phoenix
BEGIN:STANDARD
TZOFFSETFROM:-0700
TZOFFSETTO:-0700
TZNAME:MST
DTSTART:20210101T000000
END:STANDARD
END:VTIMEZONE
BEGIN:VEVENT
DTSTART;TZID=America/Phoenix:20221101T180000
DTEND;TZID=America/Phoenix:20221101T190000
DTSTAMP:20260421T150339
CREATED:20220821T193530Z
LAST-MODIFIED:20220821T193530Z
UID:253166-1667325600-1667329200@anthemscouting.com
SUMMARY:Den Meeting
DESCRIPTION:All our dens meet at the same time and same location.
URL:https://anthemscouting.com/event/den-meeting-2022-11-01/
LOCATION:Ridgeline Highschool / Cross of Christ Church\, 39808 N Gavilan Peak Pkwy\, Anthem\, AZ\, 85086\, United States
CATEGORIES:Cub Scouts,Den Meeting
ATTACH;FMTTYPE=image/jpeg:https://anthemscouting.com/wp-content/uploads/2022/07/Pack-247-Pack-Meeting-cover-900x600-blue.jpg
END:VEVENT
BEGIN:VEVENT
DTSTART;TZID=America/Phoenix:20221022T140000
DTEND;TZID=America/Phoenix:20221023T120000
DTSTAMP:20260421T150339
CREATED:20220814T182144Z
LAST-MODIFIED:20221022T141940Z
UID:252562-1666447200-1666526400@anthemscouting.com
SUMMARY:Pack Family Campout - Usery Mountain Park
DESCRIPTION:This year we will be camping at the Usery Mountain Park at 3939 North Usery Pass Road in Mesa.\nGroup Camp areas A and B. \nWe would like you to plan to arrive around 2PM to begin setting up camp. Around 3 or 3:30 your Den Leader will have activities for you and your Scout until dinner. After dinner we will have a family friendly movie. The next morning we will have breakfast and then you are free to do as you choose\, unless your Den Leader has expressed otherwise. I have attached our Pack Camping list as a guide for what you might want to bring for your family. Extra shoes and blankets are never a bad idea. \nThe most often asked questions I get from our new families are:\n(A) can our younger/older child(ren) come too? YES! This is a campout for the entire family!\n(B) Do we bring our own food? Only if you want to or if you have very unique dietary needs. We will supply dinner\, dessert\, and breakfast (yes\, including coffee) along with water\, juice boxes\, and hot chocolate. This time we’re having hot dogs (regular and gluten free buns will be available)\, chili\, chips\, and the fixings for dinner\, s’mores for dessert\, and oatmeal\, breakfast pastries\, fruit\, etc. for breakfast.\n(C) Are there bathrooms? YES! All Cub Scout campouts are required to have bathrooms and running water.
URL:https://anthemscouting.com/event/pack-family-campout-2022-10-22/
LOCATION:Usery Mountain Regional Park\, 3939 N Usery Pass Rd\, Mesa\, AZ\, 85207\, United States
CATEGORIES:Campout,Cub Scouts
ATTACH;FMTTYPE=image/jpeg:https://anthemscouting.com/wp-content/uploads/2022/08/Event-Camping.jpg
END:VEVENT
BEGIN:VEVENT
DTSTART;TZID=America/Phoenix:20221018T180000
DTEND;TZID=America/Phoenix:20221018T190000
DTSTAMP:20260421T150339
CREATED:20220821T193431Z
LAST-MODIFIED:20220821T193445Z
UID:253164-1666116000-1666119600@anthemscouting.com
SUMMARY:Den Meeting
DESCRIPTION:All our dens meet at the same time and same location.
URL:https://anthemscouting.com/event/den-meeting-2022-10-18/
LOCATION:Ridgeline Highschool / Cross of Christ Church\, 39808 N Gavilan Peak Pkwy\, Anthem\, AZ\, 85086\, United States
CATEGORIES:Cub Scouts,Den Meeting
ATTACH;FMTTYPE=image/jpeg:https://anthemscouting.com/wp-content/uploads/2022/07/Pack-247-Pack-Meeting-cover-900x600-blue.jpg
END:VEVENT
BEGIN:VEVENT
DTSTART;TZID=America/Phoenix:20221011T190000
DTEND;TZID=America/Phoenix:20221011T200000
DTSTAMP:20260421T150339
CREATED:20220914T170726Z
LAST-MODIFIED:20220914T170726Z
UID:253955-1665514800-1665518400@anthemscouting.com
SUMMARY:Pack Leadership Meeting
DESCRIPTION:The meeting will be held in the TBD classroom at Cross of Christ Church. \nOr you can join via Zoom.
URL:https://anthemscouting.com/event/pack-leadership-meeting-2022-10-11/
LOCATION:Ridgeline Highschool / Cross of Christ Church\, 39808 N Gavilan Peak Pkwy\, Anthem\, AZ\, 85086\, United States
CATEGORIES:Cub Scouts,Pack Leadership Meeting
ATTACH;FMTTYPE=image/jpeg:https://anthemscouting.com/wp-content/uploads/2022/09/Anthem-Scouting-Event-Pack-Leadership-Meeting.jpg
END:VEVENT
BEGIN:VEVENT
DTSTART;TZID=America/Phoenix:20221004T180000
DTEND;TZID=America/Phoenix:20221004T190000
DTSTAMP:20260421T150339
CREATED:20220821T193401Z
LAST-MODIFIED:20220821T193401Z
UID:253162-1664906400-1664910000@anthemscouting.com
SUMMARY:Den Meeting
DESCRIPTION:All our dens meet at the same time and same location.
URL:https://anthemscouting.com/event/den-meeting-2022-10-04/
LOCATION:Ridgeline Highschool / Cross of Christ Church\, 39808 N Gavilan Peak Pkwy\, Anthem\, AZ\, 85086\, United States
CATEGORIES:Cub Scouts,Den Meeting
ATTACH;FMTTYPE=image/jpeg:https://anthemscouting.com/wp-content/uploads/2022/07/Pack-247-Pack-Meeting-cover-900x600-blue.jpg
END:VEVENT
BEGIN:VEVENT
DTSTART;TZID=America/Phoenix:20220927T180000
DTEND;TZID=America/Phoenix:20220927T190000
DTSTAMP:20260421T150339
CREATED:20220723T032639Z
LAST-MODIFIED:20220913T230940Z
UID:252034-1664301600-1664305200@anthemscouting.com
SUMMARY:Pack Meeting
DESCRIPTION:Come join us at our September Pack Meeting
URL:https://anthemscouting.com/event/pack-meeting-2022-09-27/
LOCATION:Ridgeline Highschool / Cross of Christ Church\, 39808 N Gavilan Peak Pkwy\, Anthem\, AZ\, 85086\, United States
CATEGORIES:Cub Scouts,Pack Meeting
ATTACH;FMTTYPE=image/jpeg:https://anthemscouting.com/wp-content/uploads/2022/09/Anthem-Scouting-Event-Pack-Meeting-900x600-1.jpg
END:VEVENT
BEGIN:VEVENT
DTSTART;TZID=America/Phoenix:20220920T180000
DTEND;TZID=America/Phoenix:20220920T190000
DTSTAMP:20260421T150339
CREATED:20220821T193328Z
LAST-MODIFIED:20220821T193328Z
UID:253160-1663696800-1663700400@anthemscouting.com
SUMMARY:Den Meeting
DESCRIPTION:All our dens meet at the same time and same location.
URL:https://anthemscouting.com/event/den-meeting-2022-09-20/
LOCATION:Ridgeline Highschool / Cross of Christ Church\, 39808 N Gavilan Peak Pkwy\, Anthem\, AZ\, 85086\, United States
CATEGORIES:Cub Scouts,Den Meeting
ATTACH;FMTTYPE=image/jpeg:https://anthemscouting.com/wp-content/uploads/2022/07/Pack-247-Pack-Meeting-cover-900x600-blue.jpg
END:VEVENT
BEGIN:VEVENT
DTSTART;TZID=America/Phoenix:20220913T190000
DTEND;TZID=America/Phoenix:20220913T200000
DTSTAMP:20260421T150339
CREATED:20220914T171915Z
LAST-MODIFIED:20230110T004226Z
UID:253959-1663095600-1663099200@anthemscouting.com
SUMMARY:Pack Leadership Meeting
DESCRIPTION:The meeting will be held at Cross of Christ Church. \nOr you can join via Zoom.
URL:https://anthemscouting.com/event/pack-leadership-meeting-2022-09-14/
LOCATION:Ridgeline Highschool / Cross of Christ Church\, 39808 N Gavilan Peak Pkwy\, Anthem\, AZ\, 85086\, United States
CATEGORIES:Cub Scouts,Pack Leadership Meeting
ATTACH;FMTTYPE=image/jpeg:https://anthemscouting.com/wp-content/uploads/2022/09/Anthem-Scouting-Event-Pack-Leadership-Meeting.jpg
END:VEVENT
BEGIN:VEVENT
DTSTART;TZID=America/Phoenix:20220906T180000
DTEND;TZID=America/Phoenix:20220906T190000
DTSTAMP:20260421T150339
CREATED:20220821T192950Z
LAST-MODIFIED:20220821T193249Z
UID:253155-1662487200-1662490800@anthemscouting.com
SUMMARY:Den Meeting
DESCRIPTION:All our dens meet at the same time and same location.
URL:https://anthemscouting.com/event/den-meeting-2022-09-06/
LOCATION:Ridgeline Highschool / Cross of Christ Church\, 39808 N Gavilan Peak Pkwy\, Anthem\, AZ\, 85086\, United States
CATEGORIES:Cub Scouts,Den Meeting
ATTACH;FMTTYPE=image/jpeg:https://anthemscouting.com/wp-content/uploads/2022/07/Pack-247-Pack-Meeting-cover-900x600-blue.jpg
END:VEVENT
BEGIN:VEVENT
DTSTART;TZID=America/Phoenix:20220830T180000
DTEND;TZID=America/Phoenix:20220830T190000
DTSTAMP:20260421T150339
CREATED:20220723T025119Z
LAST-MODIFIED:20220913T230854Z
UID:252029-1661882400-1661886000@anthemscouting.com
SUMMARY:Pack Meeting
DESCRIPTION:Welcoming New Friends
URL:https://anthemscouting.com/event/pack-meeting-2022-08-30/
LOCATION:Ridgeline Highschool / Cross of Christ Church\, 39808 N Gavilan Peak Pkwy\, Anthem\, AZ\, 85086\, United States
CATEGORIES:Cub Scouts,Pack Meeting
ATTACH;FMTTYPE=image/jpeg:https://anthemscouting.com/wp-content/uploads/2022/09/Anthem-Scouting-Event-Pack-Meeting-900x600-1.jpg
END:VEVENT
END:VCALENDAR