BEGIN:VCALENDAR
VERSION:2.0
PRODID:-//Anthem Scouting - ECPv6.15.20//NONSGML v1.0//EN
CALSCALE:GREGORIAN
METHOD:PUBLISH
X-WR-CALNAME:Anthem Scouting
X-ORIGINAL-URL:https://anthemscouting.com
X-WR-CALDESC:Events for Anthem Scouting
REFRESH-INTERVAL;VALUE=DURATION:PT1H
X-Robots-Tag:noindex
X-PUBLISHED-TTL:PT1H
BEGIN:VTIMEZONE
TZID:America/Phoenix
BEGIN:STANDARD
TZOFFSETFROM:-0700
TZOFFSETTO:-0700
TZNAME:MST
DTSTART:20230101T000000
END:STANDARD
END:VTIMEZONE
BEGIN:VEVENT
DTSTART;TZID=America/Phoenix:20250805T180000
DTEND;TZID=America/Phoenix:20250805T190000
DTSTAMP:20260421T014114
CREATED:20250614T184825Z
LAST-MODIFIED:20250614T190033Z
UID:255708-1754416800-1754420400@anthemscouting.com
SUMMARY:Den Meetings
DESCRIPTION:Our Den meetings are typically the 1st and 3rd Tuesday of the month.
URL:https://anthemscouting.com/event/den-meeting-2025-08-05/
LOCATION:Ridgeline Highschool / Cross of Christ Church\, 39808 N Gavilan Peak Pkwy\, Anthem\, AZ\, 85086\, United States
CATEGORIES:Cub Scouts,Den Meeting
ATTACH;FMTTYPE=image/jpeg:https://anthemscouting.com/wp-content/uploads/2022/07/Pack-247-Pack-Meeting-cover-900x600-blue.jpg
END:VEVENT
BEGIN:VEVENT
DTSTART;TZID=America/Phoenix:20250715T180000
DTEND;TZID=America/Phoenix:20250715T190000
DTSTAMP:20260421T014114
CREATED:20250709T160445Z
LAST-MODIFIED:20250709T160445Z
UID:255770-1752602400-1752606000@anthemscouting.com
SUMMARY:Cub Scout Pack 247 Info Night and Fire Truck Spray Down
DESCRIPTION:Are you interested in learning more about Cub Scouts? We’d love to have you join us for one of our favorite nights of the year!! \nWe will have a short Pack meeting\, followed by a spray down by the Daisy Mountain Fire Department!!! \nPack leadership will be available to answer questions from families. \nWe will meet in the Commons\, which is by the north side of the parking lot. \nDon’t want to get wet? Don’t worry! Kids control how wet they get and it’s a fun time\, even for those who stay dry. \nBring a towel and wear a bathing suit or clothes you are okay getting wet in! Siblings are welcome to come and join in the fun!
URL:https://anthemscouting.com/event/cub-scout-pack-247-info-night-and-fire-truck-spray-down-2025/
LOCATION:Ridgeline Highschool / Cross of Christ Church\, 39808 N Gavilan Peak Pkwy\, Anthem\, AZ\, 85086\, United States
CATEGORIES:Cub Scouts,Recruiting,Special Event
ATTACH;FMTTYPE=image/jpeg:https://anthemscouting.com/wp-content/uploads/2022/07/Pack247-Events-Firetruck.jpg
END:VEVENT
BEGIN:VEVENT
DTSTART;TZID=America/Phoenix:20250617T183000
DTEND;TZID=America/Phoenix:20250617T193000
DTSTAMP:20260421T014114
CREATED:20250611T234554Z
LAST-MODIFIED:20250611T234712Z
UID:255702-1750185000-1750188600@anthemscouting.com
SUMMARY:Pack 247 Info Night  & Lego Masters Challenge
DESCRIPTION:Are you interested in learning more about Cub Scouts (boys K – 5th grade). Anthem Scouting Pack 247 would love to have you join us for one of our favorite nights of the year! \nWe will have a short informational meeting\, followed by lots of Lego fun!!  Pack leadership will be available to answer questions from families. \nWe will meet at the Anthem Community Center in Room A. \nWe’ll have tons of Legos and some fun Lego Master Style Challenges as well as some free building time.  Siblings are welcome to come and join in the fun!
URL:https://anthemscouting.com/event/anthem-scouting-info-night-lego-masters-challenge-2025/
LOCATION:Anthem Community Center\, 41130 N Freedom Way\, Anthem\, AZ\, 85086\, United States
CATEGORIES:Cub Scouts,Recruiting,Special Event
ATTACH;FMTTYPE=image/jpeg:https://anthemscouting.com/wp-content/uploads/2023/06/Pack247-Events-Lego.jpg
END:VEVENT
BEGIN:VEVENT
DTSTART;TZID=America/Phoenix:20250520T183000
DTEND;TZID=America/Phoenix:20250520T203000
DTSTAMP:20260421T014114
CREATED:20240717T180945Z
LAST-MODIFIED:20240717T191727Z
UID:255350-1747765800-1747773000@anthemscouting.com
SUMMARY:Pack Leadership Meeting - Next Year Schedule Planning
DESCRIPTION:Feel free to join the Pack Leadership Meeting via Zoom.
URL:https://anthemscouting.com/event/pack-leadership-meeting-2025-05-20/
LOCATION:Zoom call
CATEGORIES:Cub Scouts,Pack Leadership Meeting
ATTACH;FMTTYPE=image/jpeg:https://anthemscouting.com/wp-content/uploads/2022/09/Anthem-Scouting-Event-Pack-Leadership-Meeting.jpg
END:VEVENT
BEGIN:VEVENT
DTSTART;TZID=America/Phoenix:20250513T180000
DTEND;TZID=America/Phoenix:20250513T190000
DTSTAMP:20260421T014114
CREATED:20240717T180524Z
LAST-MODIFIED:20240717T180524Z
UID:255340-1747159200-1747162800@anthemscouting.com
SUMMARY:Pack Meeting - End of Year Celebration
DESCRIPTION:Stay tuned for more details!
URL:https://anthemscouting.com/event/pack-meeting-2025-05-13/
LOCATION:Ridgeline Highschool / Cross of Christ Church\, 39808 N Gavilan Peak Pkwy\, Anthem\, AZ\, 85086\, United States
CATEGORIES:Cub Scouts,Pack Meeting
ATTACH;FMTTYPE=image/jpeg:https://anthemscouting.com/wp-content/uploads/2022/09/Anthem-Scouting-Event-Pack-Meeting-900x600-1.jpg
END:VEVENT
BEGIN:VEVENT
DTSTART;TZID=America/Phoenix:20250506T180000
DTEND;TZID=America/Phoenix:20250506T190000
DTSTAMP:20260421T014114
CREATED:20240717T175722Z
LAST-MODIFIED:20240717T175722Z
UID:255327-1746554400-1746558000@anthemscouting.com
SUMMARY:Den Meetings
DESCRIPTION:Our Den meetings are typically the 1st and 3rd Tuesday of the month.
URL:https://anthemscouting.com/event/den-meetings-2025-05-06/
LOCATION:Ridgeline Highschool / Cross of Christ Church\, 39808 N Gavilan Peak Pkwy\, Anthem\, AZ\, 85086\, United States
CATEGORIES:Cub Scouts,Den Meeting
ATTACH;FMTTYPE=image/jpeg:https://anthemscouting.com/wp-content/uploads/2022/07/Pack-247-Pack-Meeting-cover-900x600-blue.jpg
END:VEVENT
BEGIN:VEVENT
DTSTART;TZID=America/Phoenix:20250502T160000
DTEND;TZID=America/Phoenix:20250504T120000
DTSTAMP:20260421T014114
CREATED:20240717T181124Z
LAST-MODIFIED:20250212T160658Z
UID:255352-1746201600-1746360000@anthemscouting.com
SUMMARY:Pack Family Campout & Crossover
DESCRIPTION:This year we are doing our Pack Crossover during our Pack Family Campout. \nWe will be camping at the Moqui Group Campground\, click here for directions.
URL:https://anthemscouting.com/event/pack-family-campout-2025-05-02/
LOCATION:Moqui Group Campground\, HRW2+FG Happy Jack\, Arizona\, Happy Jack\, AZ\, 86024\, United States
CATEGORIES:Campout,Cub Scouts
ATTACH;FMTTYPE=image/jpeg:https://anthemscouting.com/wp-content/uploads/2022/08/Event-Camping.jpg
END:VEVENT
BEGIN:VEVENT
DTSTART;TZID=America/Phoenix:20250429T180000
DTEND;TZID=America/Phoenix:20250429T190000
DTSTAMP:20260421T014114
CREATED:20240717T180417Z
LAST-MODIFIED:20240717T180417Z
UID:255338-1745949600-1745953200@anthemscouting.com
SUMMARY:Pack Meeting
DESCRIPTION:Stay tuned for more details!
URL:https://anthemscouting.com/event/pack-meeting-2025-04-29/
LOCATION:Ridgeline Highschool / Cross of Christ Church\, 39808 N Gavilan Peak Pkwy\, Anthem\, AZ\, 85086\, United States
CATEGORIES:Cub Scouts,Pack Meeting
ATTACH;FMTTYPE=image/jpeg:https://anthemscouting.com/wp-content/uploads/2022/09/Anthem-Scouting-Event-Pack-Meeting-900x600-1.jpg
END:VEVENT
BEGIN:VEVENT
DTSTART;TZID=America/Phoenix:20250422T180000
DTEND;TZID=America/Phoenix:20250422T190000
DTSTAMP:20260421T014114
CREATED:20240717T175516Z
LAST-MODIFIED:20250110T024354Z
UID:255325-1745344800-1745348400@anthemscouting.com
SUMMARY:Den Meetings
DESCRIPTION:Our Den meetings are typically the 1st and 3rd Tuesday of the month.
URL:https://anthemscouting.com/event/den-meetings-2025-04-22/
LOCATION:Ridgeline Highschool / Cross of Christ Church\, 39808 N Gavilan Peak Pkwy\, Anthem\, AZ\, 85086\, United States
CATEGORIES:Cub Scouts,Den Meeting
ATTACH;FMTTYPE=image/jpeg:https://anthemscouting.com/wp-content/uploads/2022/07/Pack-247-Pack-Meeting-cover-900x600-blue.jpg
END:VEVENT
BEGIN:VEVENT
DTSTART;TZID=America/Phoenix:20250415T180000
DTEND;TZID=America/Phoenix:20250415T190000
DTSTAMP:20260421T014114
CREATED:20240717T175427Z
LAST-MODIFIED:20250110T024310Z
UID:255321-1744740000-1744743600@anthemscouting.com
SUMMARY:NO MEETING
DESCRIPTION:No meeting this week
URL:https://anthemscouting.com/event/den-meetings-2025-04-15/
LOCATION:Ridgeline Highschool / Cross of Christ Church\, 39808 N Gavilan Peak Pkwy\, Anthem\, AZ\, 85086\, United States
CATEGORIES:Cub Scouts,No Meeting
ATTACH;FMTTYPE=image/jpeg:https://anthemscouting.com/wp-content/uploads/2022/07/Pack-247-Pack-Meeting-cover-900x600-blue.jpg
END:VEVENT
BEGIN:VEVENT
DTSTART;TZID=America/Phoenix:20250408T183000
DTEND;TZID=America/Phoenix:20250408T193000
DTSTAMP:20260421T014114
CREATED:20240717T180839Z
LAST-MODIFIED:20240717T191703Z
UID:255348-1744137000-1744140600@anthemscouting.com
SUMMARY:Pack Leadership Meeting
DESCRIPTION:Feel free to join the Pack Leadership Meeting via Zoom.
URL:https://anthemscouting.com/event/pack-leadership-meeting-2025-04-08/
LOCATION:Zoom call
CATEGORIES:Cub Scouts,Pack Leadership Meeting
ATTACH;FMTTYPE=image/jpeg:https://anthemscouting.com/wp-content/uploads/2022/09/Anthem-Scouting-Event-Pack-Leadership-Meeting.jpg
END:VEVENT
BEGIN:VEVENT
DTSTART;TZID=America/Phoenix:20250401T180000
DTEND;TZID=America/Phoenix:20250401T190000
DTSTAMP:20260421T014114
CREATED:20240717T175409Z
LAST-MODIFIED:20240717T175409Z
UID:255320-1743530400-1743534000@anthemscouting.com
SUMMARY:Den Meetings
DESCRIPTION:Our Den meetings are typically the 1st and 3rd Tuesday of the month.
URL:https://anthemscouting.com/event/den-meetings-2025-04-01/
LOCATION:Ridgeline Highschool / Cross of Christ Church\, 39808 N Gavilan Peak Pkwy\, Anthem\, AZ\, 85086\, United States
CATEGORIES:Cub Scouts,Den Meeting
ATTACH;FMTTYPE=image/jpeg:https://anthemscouting.com/wp-content/uploads/2022/07/Pack-247-Pack-Meeting-cover-900x600-blue.jpg
END:VEVENT
BEGIN:VEVENT
DTSTART;TZID=America/Phoenix:20250325T180000
DTEND;TZID=America/Phoenix:20250325T190000
DTSTAMP:20260421T014114
CREATED:20240717T180326Z
LAST-MODIFIED:20240717T180341Z
UID:255335-1742925600-1742929200@anthemscouting.com
SUMMARY:Pack Meeting
DESCRIPTION:Stay tuned for more details!
URL:https://anthemscouting.com/event/pack-meeting-2025-03-25/
LOCATION:Ridgeline Highschool / Cross of Christ Church\, 39808 N Gavilan Peak Pkwy\, Anthem\, AZ\, 85086\, United States
CATEGORIES:Cub Scouts,Pack Meeting
ATTACH;FMTTYPE=image/jpeg:https://anthemscouting.com/wp-content/uploads/2022/09/Anthem-Scouting-Event-Pack-Meeting-900x600-1.jpg
END:VEVENT
BEGIN:VEVENT
DTSTART;TZID=America/Phoenix:20250318T180000
DTEND;TZID=America/Phoenix:20250318T190000
DTSTAMP:20260421T014114
CREATED:20240717T175327Z
LAST-MODIFIED:20240717T175327Z
UID:255317-1742320800-1742324400@anthemscouting.com
SUMMARY:Den Meetings
DESCRIPTION:Our Den meetings are typically the 1st and 3rd Tuesday of the month.
URL:https://anthemscouting.com/event/den-meetings-2025-03-18/
LOCATION:Ridgeline Highschool / Cross of Christ Church\, 39808 N Gavilan Peak Pkwy\, Anthem\, AZ\, 85086\, United States
CATEGORIES:Cub Scouts,Den Meeting
ATTACH;FMTTYPE=image/jpeg:https://anthemscouting.com/wp-content/uploads/2022/07/Pack-247-Pack-Meeting-cover-900x600-blue.jpg
END:VEVENT
BEGIN:VEVENT
DTSTART;TZID=America/Phoenix:20250311T183000
DTEND;TZID=America/Phoenix:20250311T193000
DTSTAMP:20260421T014114
CREATED:20240717T180802Z
LAST-MODIFIED:20240717T191658Z
UID:255346-1741717800-1741721400@anthemscouting.com
SUMMARY:Pack Leadership Meeting
DESCRIPTION:Feel free to join the Pack Leadership Meeting via Zoom.
URL:https://anthemscouting.com/event/pack-leadership-meeting-2025-03-11/
LOCATION:Zoom call
CATEGORIES:Cub Scouts,Pack Leadership Meeting
ATTACH;FMTTYPE=image/jpeg:https://anthemscouting.com/wp-content/uploads/2022/09/Anthem-Scouting-Event-Pack-Leadership-Meeting.jpg
END:VEVENT
BEGIN:VEVENT
DTSTART;TZID=America/Phoenix:20250304T180000
DTEND;TZID=America/Phoenix:20250304T190000
DTSTAMP:20260421T014114
CREATED:20240717T175315Z
LAST-MODIFIED:20240717T175315Z
UID:255316-1741111200-1741114800@anthemscouting.com
SUMMARY:Den Meetings
DESCRIPTION:Our Den meetings are typically the 1st and 3rd Tuesday of the month.
URL:https://anthemscouting.com/event/den-meetings-2025-03-04/
LOCATION:Ridgeline Highschool / Cross of Christ Church\, 39808 N Gavilan Peak Pkwy\, Anthem\, AZ\, 85086\, United States
CATEGORIES:Cub Scouts,Den Meeting
ATTACH;FMTTYPE=image/jpeg:https://anthemscouting.com/wp-content/uploads/2022/07/Pack-247-Pack-Meeting-cover-900x600-blue.jpg
END:VEVENT
BEGIN:VEVENT
DTSTART;TZID=America/Phoenix:20250225T180000
DTEND;TZID=America/Phoenix:20250225T190000
DTSTAMP:20260421T014114
CREATED:20240717T180158Z
LAST-MODIFIED:20240717T180158Z
UID:255333-1740506400-1740510000@anthemscouting.com
SUMMARY:Pack Meeting - Blue & Gold Banquet
DESCRIPTION:Come join us for the Blue & Gold Banquet! \nBlue and Gold Banquets are a tradition in Cub Scout packs. They are a celebration of the anniversary of the founding of the BSA on February 8\, 1910\, and therefore usually take the place of the February pack meeting. \nCheck back for more details
URL:https://anthemscouting.com/event/pack-meeting-2025-02-25/
LOCATION:TBD
CATEGORIES:Cub Scouts,Pack Meeting
ATTACH;FMTTYPE=image/jpeg:https://anthemscouting.com/wp-content/uploads/2022/09/Anthem-Scouting-Event-Pack-Meeting-900x600-1.jpg
END:VEVENT
BEGIN:VEVENT
DTSTART;TZID=America/Phoenix:20250218T180000
DTEND;TZID=America/Phoenix:20250218T190000
DTSTAMP:20260421T014114
CREATED:20240717T175242Z
LAST-MODIFIED:20240717T175242Z
UID:255312-1739901600-1739905200@anthemscouting.com
SUMMARY:Den Meetings
DESCRIPTION:Our Den meetings are typically the 1st and 3rd Tuesday of the month.
URL:https://anthemscouting.com/event/den-meetings-2025-02-18/
LOCATION:Ridgeline Highschool / Cross of Christ Church\, 39808 N Gavilan Peak Pkwy\, Anthem\, AZ\, 85086\, United States
CATEGORIES:Cub Scouts,Den Meeting
ATTACH;FMTTYPE=image/jpeg:https://anthemscouting.com/wp-content/uploads/2022/07/Pack-247-Pack-Meeting-cover-900x600-blue.jpg
END:VEVENT
BEGIN:VEVENT
DTSTART;TZID=America/Phoenix:20250211T183000
DTEND;TZID=America/Phoenix:20250211T193000
DTSTAMP:20260421T014114
CREATED:20240717T180737Z
LAST-MODIFIED:20240717T191652Z
UID:255344-1739298600-1739302200@anthemscouting.com
SUMMARY:Pack Leadership Meeting
DESCRIPTION:Feel free to join the Pack Leadership Meeting via Zoom.
URL:https://anthemscouting.com/event/pack-leadership-meeting-2025-02-11/
LOCATION:Zoom call
CATEGORIES:Cub Scouts,Pack Leadership Meeting
ATTACH;FMTTYPE=image/jpeg:https://anthemscouting.com/wp-content/uploads/2022/09/Anthem-Scouting-Event-Pack-Leadership-Meeting.jpg
END:VEVENT
BEGIN:VEVENT
DTSTART;TZID=America/Phoenix:20250204T180000
DTEND;TZID=America/Phoenix:20250204T190000
DTSTAMP:20260421T014114
CREATED:20240717T175232Z
LAST-MODIFIED:20240717T175232Z
UID:255313-1738692000-1738695600@anthemscouting.com
SUMMARY:Den Meetings
DESCRIPTION:Our Den meetings are typically the 1st and 3rd Tuesday of the month.
URL:https://anthemscouting.com/event/den-meetings-2025-02-04/
LOCATION:Ridgeline Highschool / Cross of Christ Church\, 39808 N Gavilan Peak Pkwy\, Anthem\, AZ\, 85086\, United States
CATEGORIES:Cub Scouts,Den Meeting
ATTACH;FMTTYPE=image/jpeg:https://anthemscouting.com/wp-content/uploads/2022/07/Pack-247-Pack-Meeting-cover-900x600-blue.jpg
END:VEVENT
BEGIN:VEVENT
DTSTART;TZID=America/Phoenix:20250128T180000
DTEND;TZID=America/Phoenix:20250128T190000
DTSTAMP:20260421T014114
CREATED:20240717T175934Z
LAST-MODIFIED:20240717T175934Z
UID:255329-1738087200-1738090800@anthemscouting.com
SUMMARY:Pack Meeting - AOL Crossover
DESCRIPTION:Our AOL dens will be crossing over to Boy Scouts.
URL:https://anthemscouting.com/event/pack-meeting-2025-01-28/
LOCATION:Ridgeline Highschool / Cross of Christ Church\, 39808 N Gavilan Peak Pkwy\, Anthem\, AZ\, 85086\, United States
CATEGORIES:Cub Scouts,Pack Meeting
ATTACH;FMTTYPE=image/jpeg:https://anthemscouting.com/wp-content/uploads/2022/09/Anthem-Scouting-Event-Pack-Meeting-900x600-1.jpg
END:VEVENT
BEGIN:VEVENT
DTSTART;TZID=America/Phoenix:20250121T180000
DTEND;TZID=America/Phoenix:20250121T190000
DTSTAMP:20260421T014114
CREATED:20240717T175152Z
LAST-MODIFIED:20240717T175152Z
UID:255309-1737482400-1737486000@anthemscouting.com
SUMMARY:Den Meetings
DESCRIPTION:Our Den meetings are typically the 1st and 3rd Tuesday of the month.
URL:https://anthemscouting.com/event/den-meetings-2025-01-21/
LOCATION:Ridgeline Highschool / Cross of Christ Church\, 39808 N Gavilan Peak Pkwy\, Anthem\, AZ\, 85086\, United States
CATEGORIES:Cub Scouts,Den Meeting
ATTACH;FMTTYPE=image/jpeg:https://anthemscouting.com/wp-content/uploads/2022/07/Pack-247-Pack-Meeting-cover-900x600-blue.jpg
END:VEVENT
BEGIN:VEVENT
DTSTART;TZID=America/Phoenix:20250114T183000
DTEND;TZID=America/Phoenix:20250114T193000
DTSTAMP:20260421T014114
CREATED:20240717T180706Z
LAST-MODIFIED:20240717T191647Z
UID:255342-1736879400-1736883000@anthemscouting.com
SUMMARY:Pack Leadership Meeting
DESCRIPTION:Feel free to join the Pack Leadership Meeting via Zoom.
URL:https://anthemscouting.com/event/pack-leadership-meeting-2025-01-14/
LOCATION:Zoom call
CATEGORIES:Cub Scouts,Pack Leadership Meeting
ATTACH;FMTTYPE=image/jpeg:https://anthemscouting.com/wp-content/uploads/2022/09/Anthem-Scouting-Event-Pack-Leadership-Meeting.jpg
END:VEVENT
BEGIN:VEVENT
DTSTART;TZID=America/Phoenix:20250111T093000
DTEND;TZID=America/Phoenix:20250111T130000
DTSTAMP:20260421T014114
CREATED:20240820T193050Z
LAST-MODIFIED:20241113T194753Z
UID:255498-1736587800-1736600400@anthemscouting.com
SUMMARY:Pinewood Derby Race Day
DESCRIPTION:We’re excited to be hosting our Pinewood Derby at the Martin Auto Museum this year! The museum features over 140 vehicles\, including classic cars\, hot rods\, customs\, imports\, and much more. It also has one of the largest collections of auto memorabilia\, antique gas pumps\, and signage anywhere. \nOur Pinewood Derby will be on Saturday\, January 11th from 9:30(ish) – 1pm.  As a reminder\, the Pack pays for Scout cars\, but if a parent or sibling would like to race\, the cost of additional cars is $5. \nHere are some rules and building tips & tricks:\n\n\nYou have to use everything that comes in the bag\, including the wood block\, wheels\, and axles. You can’t purchase aftermarket parts. (You can purchase a pre-cut BSA wedge wood block\, if you would prefer to start with a wedge shape.)\nThe car has to be made for this race.  No reruns or repaints.\nThe max weight of the car is 141.75 grams. (Try to make it weigh as close to that as you can\, without going over. The heavier it is\, the faster it will go.)\n\nA few additional notes:\n\nThe goal is to have fun.\nThere are lots of great website that provide tricks\, tips\, and design ideas.\nYour Scout should be HEAVILY involved in making the car. If you really want to race\, get a car for the parent/sibling race 😉\nEveryone must behave in accordance with the Scout Law at all times.\nThe goal is to have fun!\nThe goal is to have fun!!\nThe goal is to have fun!!!\n\nTIPS\n\n1. Get your car to the max weight of 5 oz – If you are underweight your car will not be fast enough to win races. Scales are often different so try to get your car to 4.8oz before coming and then add the rest of the weight at the event to make sure we don’t have to remove weight. \n2. The ideal spot to add weight is about an inch in front of your rear axle. If all the weight is in the front the car tends to wobble. If it is all in the very back it can pop wheelies. Michael’s has Pinewood Derby weight kits that easily screw into the bottom of your car. You can also use things like fishing weights\, tire weights\, etc. \n3. Get your wheel alignment as straight as possible – this is key to your car going fast. If you want to get fancy\, make it so that only 3 wheels touch the track to reduce friction. (The fourth wheel has to be present\, but it can be raised.) \n4. Use powdered graphite on the axles – can be purchased at Home Depot or Michaels. No liquid lubricants can be used\, it ruins the track and you will not be allowed to race. \n5. Keep your car aerodynamic. Do not add anything to the sides of the cars that goes past the wheel base\, it won’t fit on the track. \n6. There are many pictures of cars and tips posted online if you just google Pinewood Derby. \nSCHEDULE \n8:30AM Set up begins\n9:00AM Venue opens to the Public\n9:30AM Scouts arrive\n9:45-10:00AM Scouts vote for Design Awards\n10:00AM Racing begins!\n11:00AM Family Races (adults and non-scout siblings who have entered cars)\n11:45AM Scout Finals\n12:00PM Awards\n12:15PM Clean-up \nLet us know if you have any questions! \n\nClick here for more info on the Pinewood Derby from the Scout Shop.
URL:https://anthemscouting.com/event/pinewood-derby-race-day-2025-01-11/
LOCATION:Martin Auto Museum\, 4320 W Thunderbird Rd\, Glendale\, AZ\, 85306
CATEGORIES:Cub Scouts,Special Event
ATTACH;FMTTYPE=image/jpeg:https://anthemscouting.com/wp-content/uploads/2022/08/Anthem-Scouting-Event-Pinewood-Derby.jpg
END:VEVENT
BEGIN:VEVENT
DTSTART;TZID=America/Phoenix:20250110T170000
DTEND;TZID=America/Phoenix:20250110T190000
DTSTAMP:20260421T014114
CREATED:20241113T195419Z
LAST-MODIFIED:20241113T195528Z
UID:255543-1736528400-1736535600@anthemscouting.com
SUMMARY:Pinewood Derby Car Check-In
DESCRIPTION:To save some time on Race Day\, we will have 2 opportunities to check in your car during the week: \n\nWeekly Den meeting the week of the event – January 6th\nThe day prior to the race – Friday\, January 10th 5pm-7pm\n\nContact your Den Leader for the location for the Friday check-in\, it is at a Leader’s house so we don’t want to list it publically.
URL:https://anthemscouting.com/event/pinewood-derby-car-check-in-2025/
LOCATION:Contact Your Den Leader
CATEGORIES:Cub Scouts,Special Event
ATTACH;FMTTYPE=image/jpeg:https://anthemscouting.com/wp-content/uploads/2022/08/Anthem-Scouting-Event-Pinewood-Derby.jpg
END:VEVENT
BEGIN:VEVENT
DTSTART;TZID=America/Phoenix:20250107T180000
DTEND;TZID=America/Phoenix:20250107T190000
DTSTAMP:20260421T014114
CREATED:20240717T175136Z
LAST-MODIFIED:20240717T175136Z
UID:255308-1736272800-1736276400@anthemscouting.com
SUMMARY:Den Meetings
DESCRIPTION:Our Den meetings are typically the 1st and 3rd Tuesday of the month.
URL:https://anthemscouting.com/event/den-meetings-2025-01-07/
LOCATION:Ridgeline Highschool / Cross of Christ Church\, 39808 N Gavilan Peak Pkwy\, Anthem\, AZ\, 85086\, United States
CATEGORIES:Cub Scouts,Den Meeting
ATTACH;FMTTYPE=image/jpeg:https://anthemscouting.com/wp-content/uploads/2022/07/Pack-247-Pack-Meeting-cover-900x600-blue.jpg
END:VEVENT
BEGIN:VEVENT
DTSTART;TZID=America/Phoenix:20241217T180000
DTEND;TZID=America/Phoenix:20241217T190000
DTSTAMP:20260421T014114
CREATED:20240717T173259Z
LAST-MODIFIED:20240717T173259Z
UID:255294-1734458400-1734462000@anthemscouting.com
SUMMARY:Pack Meeting - Caroling
DESCRIPTION:This will be our annual Caroling event – stay tuned for more details
URL:https://anthemscouting.com/event/pack-meeting-2024-12-17/
LOCATION:Ridgeline Highschool / Cross of Christ Church\, 39808 N Gavilan Peak Pkwy\, Anthem\, AZ\, 85086\, United States
CATEGORIES:Cub Scouts,Pack Meeting
ATTACH;FMTTYPE=image/jpeg:https://anthemscouting.com/wp-content/uploads/2022/09/Anthem-Scouting-Event-Pack-Meeting-900x600-1.jpg
END:VEVENT
BEGIN:VEVENT
DTSTART;TZID=America/Phoenix:20241210T180000
DTEND;TZID=America/Phoenix:20241210T190000
DTSTAMP:20260421T014114
CREATED:20240717T173216Z
LAST-MODIFIED:20240717T173216Z
UID:255292-1733853600-1733857200@anthemscouting.com
SUMMARY:Pack Meeting
DESCRIPTION:We will be handing out the Pinewood Derby cars.
URL:https://anthemscouting.com/event/pack-meeting-2024-12-10/
LOCATION:Ridgeline Highschool / Cross of Christ Church\, 39808 N Gavilan Peak Pkwy\, Anthem\, AZ\, 85086\, United States
CATEGORIES:Cub Scouts,Pack Meeting
ATTACH;FMTTYPE=image/jpeg:https://anthemscouting.com/wp-content/uploads/2022/09/Anthem-Scouting-Event-Pack-Meeting-900x600-1.jpg
END:VEVENT
BEGIN:VEVENT
DTSTART;TZID=America/Phoenix:20241203T180000
DTEND;TZID=America/Phoenix:20241203T190000
DTSTAMP:20260421T014114
CREATED:20240717T172154Z
LAST-MODIFIED:20240717T172202Z
UID:255279-1733248800-1733252400@anthemscouting.com
SUMMARY:Den Meetings
DESCRIPTION:Our Den meetings are typically the 1st and 3rd Tuesday of the month.
URL:https://anthemscouting.com/event/den-meetings-2024-12-03/
LOCATION:Ridgeline Highschool / Cross of Christ Church\, 39808 N Gavilan Peak Pkwy\, Anthem\, AZ\, 85086\, United States
CATEGORIES:Cub Scouts,Den Meeting
ATTACH;FMTTYPE=image/jpeg:https://anthemscouting.com/wp-content/uploads/2022/07/Pack-247-Pack-Meeting-cover-900x600-blue.jpg
END:VEVENT
BEGIN:VEVENT
DTSTART;VALUE=DATE:20241126
DTEND;VALUE=DATE:20241127
DTSTAMP:20260421T014114
CREATED:20240717T173053Z
LAST-MODIFIED:20240717T173053Z
UID:255290-1732579200-1732665599@anthemscouting.com
SUMMARY:NO Pack Meeting
DESCRIPTION:THERE IS NO PACK MEETING
URL:https://anthemscouting.com/event/no-pack-meeting-2024-11-26/
LOCATION:TBD
CATEGORIES:Cub Scouts,No Meeting,Pack Meeting
ATTACH;FMTTYPE=image/jpeg:https://anthemscouting.com/wp-content/uploads/2023/02/No-Meeting.jpg
END:VEVENT
END:VCALENDAR