BEGIN:VCALENDAR
VERSION:2.0
PRODID:-//Anthem Scouting - ECPv6.15.20//NONSGML v1.0//EN
CALSCALE:GREGORIAN
METHOD:PUBLISH
X-WR-CALNAME:Anthem Scouting
X-ORIGINAL-URL:https://anthemscouting.com
X-WR-CALDESC:Events for Anthem Scouting
REFRESH-INTERVAL;VALUE=DURATION:PT1H
X-Robots-Tag:noindex
X-PUBLISHED-TTL:PT1H
BEGIN:VTIMEZONE
TZID:America/Phoenix
BEGIN:STANDARD
TZOFFSETFROM:-0700
TZOFFSETTO:-0700
TZNAME:MST
DTSTART:20230101T000000
END:STANDARD
END:VTIMEZONE
BEGIN:VEVENT
DTSTART;TZID=America/Phoenix:20241022T180000
DTEND;TZID=America/Phoenix:20241022T190000
DTSTAMP:20260425T094542
CREATED:20240717T171134Z
LAST-MODIFIED:20240717T175447Z
UID:255270-1729620000-1729623600@anthemscouting.com
SUMMARY:Den Meetings (optional)
DESCRIPTION:THIS IS AN OPTIONAL MEETING \nWe will have the facility open and the den can meet for planned activities or just to spend time with the rest of the Pack. \nOur Den meetings are typically the 1st and 3rd Tuesday of the month.
URL:https://anthemscouting.com/event/den-meetings-2024-10-22/
LOCATION:Ridgeline Highschool / Cross of Christ Church\, 39808 N Gavilan Peak Pkwy\, Anthem\, AZ\, 85086\, United States
CATEGORIES:Cub Scouts,Den Meeting
ATTACH;FMTTYPE=image/jpeg:https://anthemscouting.com/wp-content/uploads/2022/07/Pack-247-Pack-Meeting-cover-900x600-blue.jpg
END:VEVENT
BEGIN:VEVENT
DTSTART;TZID=America/Phoenix:20241105T180000
DTEND;TZID=America/Phoenix:20241105T190000
DTSTAMP:20260425T094542
CREATED:20240717T172101Z
LAST-MODIFIED:20240717T172224Z
UID:255275-1730829600-1730833200@anthemscouting.com
SUMMARY:Den Meetings
DESCRIPTION:Our Den meetings are typically the 1st and 3rd Tuesday of the month.
URL:https://anthemscouting.com/event/den-meetings-2024-11-05/
LOCATION:Ridgeline Highschool / Cross of Christ Church\, 39808 N Gavilan Peak Pkwy\, Anthem\, AZ\, 85086\, United States
CATEGORIES:Cub Scouts,Den Meeting
ATTACH;FMTTYPE=image/jpeg:https://anthemscouting.com/wp-content/uploads/2022/07/Pack-247-Pack-Meeting-cover-900x600-blue.jpg
END:VEVENT
BEGIN:VEVENT
DTSTART;TZID=America/Phoenix:20241119T180000
DTEND;TZID=America/Phoenix:20241119T190000
DTSTAMP:20260425T094542
CREATED:20240717T172115Z
LAST-MODIFIED:20240717T172230Z
UID:255276-1732039200-1732042800@anthemscouting.com
SUMMARY:Den Meetings
DESCRIPTION:Our Den meetings are typically the 1st and 3rd Tuesday of the month.
URL:https://anthemscouting.com/event/den-meetings-2024-11-19/
LOCATION:Ridgeline Highschool / Cross of Christ Church\, 39808 N Gavilan Peak Pkwy\, Anthem\, AZ\, 85086\, United States
CATEGORIES:Cub Scouts,Den Meeting
ATTACH;FMTTYPE=image/jpeg:https://anthemscouting.com/wp-content/uploads/2022/07/Pack-247-Pack-Meeting-cover-900x600-blue.jpg
END:VEVENT
BEGIN:VEVENT
DTSTART;TZID=America/Phoenix:20241203T180000
DTEND;TZID=America/Phoenix:20241203T190000
DTSTAMP:20260425T094542
CREATED:20240717T172154Z
LAST-MODIFIED:20240717T172202Z
UID:255279-1733248800-1733252400@anthemscouting.com
SUMMARY:Den Meetings
DESCRIPTION:Our Den meetings are typically the 1st and 3rd Tuesday of the month.
URL:https://anthemscouting.com/event/den-meetings-2024-12-03/
LOCATION:Ridgeline Highschool / Cross of Christ Church\, 39808 N Gavilan Peak Pkwy\, Anthem\, AZ\, 85086\, United States
CATEGORIES:Cub Scouts,Den Meeting
ATTACH;FMTTYPE=image/jpeg:https://anthemscouting.com/wp-content/uploads/2022/07/Pack-247-Pack-Meeting-cover-900x600-blue.jpg
END:VEVENT
BEGIN:VEVENT
DTSTART;TZID=America/Phoenix:20250107T180000
DTEND;TZID=America/Phoenix:20250107T190000
DTSTAMP:20260425T094542
CREATED:20240717T175136Z
LAST-MODIFIED:20240717T175136Z
UID:255308-1736272800-1736276400@anthemscouting.com
SUMMARY:Den Meetings
DESCRIPTION:Our Den meetings are typically the 1st and 3rd Tuesday of the month.
URL:https://anthemscouting.com/event/den-meetings-2025-01-07/
LOCATION:Ridgeline Highschool / Cross of Christ Church\, 39808 N Gavilan Peak Pkwy\, Anthem\, AZ\, 85086\, United States
CATEGORIES:Cub Scouts,Den Meeting
ATTACH;FMTTYPE=image/jpeg:https://anthemscouting.com/wp-content/uploads/2022/07/Pack-247-Pack-Meeting-cover-900x600-blue.jpg
END:VEVENT
BEGIN:VEVENT
DTSTART;TZID=America/Phoenix:20250121T180000
DTEND;TZID=America/Phoenix:20250121T190000
DTSTAMP:20260425T094542
CREATED:20240717T175152Z
LAST-MODIFIED:20240717T175152Z
UID:255309-1737482400-1737486000@anthemscouting.com
SUMMARY:Den Meetings
DESCRIPTION:Our Den meetings are typically the 1st and 3rd Tuesday of the month.
URL:https://anthemscouting.com/event/den-meetings-2025-01-21/
LOCATION:Ridgeline Highschool / Cross of Christ Church\, 39808 N Gavilan Peak Pkwy\, Anthem\, AZ\, 85086\, United States
CATEGORIES:Cub Scouts,Den Meeting
ATTACH;FMTTYPE=image/jpeg:https://anthemscouting.com/wp-content/uploads/2022/07/Pack-247-Pack-Meeting-cover-900x600-blue.jpg
END:VEVENT
BEGIN:VEVENT
DTSTART;TZID=America/Phoenix:20250204T180000
DTEND;TZID=America/Phoenix:20250204T190000
DTSTAMP:20260425T094542
CREATED:20240717T175232Z
LAST-MODIFIED:20240717T175232Z
UID:255313-1738692000-1738695600@anthemscouting.com
SUMMARY:Den Meetings
DESCRIPTION:Our Den meetings are typically the 1st and 3rd Tuesday of the month.
URL:https://anthemscouting.com/event/den-meetings-2025-02-04/
LOCATION:Ridgeline Highschool / Cross of Christ Church\, 39808 N Gavilan Peak Pkwy\, Anthem\, AZ\, 85086\, United States
CATEGORIES:Cub Scouts,Den Meeting
ATTACH;FMTTYPE=image/jpeg:https://anthemscouting.com/wp-content/uploads/2022/07/Pack-247-Pack-Meeting-cover-900x600-blue.jpg
END:VEVENT
BEGIN:VEVENT
DTSTART;TZID=America/Phoenix:20250218T180000
DTEND;TZID=America/Phoenix:20250218T190000
DTSTAMP:20260425T094542
CREATED:20240717T175242Z
LAST-MODIFIED:20240717T175242Z
UID:255312-1739901600-1739905200@anthemscouting.com
SUMMARY:Den Meetings
DESCRIPTION:Our Den meetings are typically the 1st and 3rd Tuesday of the month.
URL:https://anthemscouting.com/event/den-meetings-2025-02-18/
LOCATION:Ridgeline Highschool / Cross of Christ Church\, 39808 N Gavilan Peak Pkwy\, Anthem\, AZ\, 85086\, United States
CATEGORIES:Cub Scouts,Den Meeting
ATTACH;FMTTYPE=image/jpeg:https://anthemscouting.com/wp-content/uploads/2022/07/Pack-247-Pack-Meeting-cover-900x600-blue.jpg
END:VEVENT
BEGIN:VEVENT
DTSTART;TZID=America/Phoenix:20250304T180000
DTEND;TZID=America/Phoenix:20250304T190000
DTSTAMP:20260425T094542
CREATED:20240717T175315Z
LAST-MODIFIED:20240717T175315Z
UID:255316-1741111200-1741114800@anthemscouting.com
SUMMARY:Den Meetings
DESCRIPTION:Our Den meetings are typically the 1st and 3rd Tuesday of the month.
URL:https://anthemscouting.com/event/den-meetings-2025-03-04/
LOCATION:Ridgeline Highschool / Cross of Christ Church\, 39808 N Gavilan Peak Pkwy\, Anthem\, AZ\, 85086\, United States
CATEGORIES:Cub Scouts,Den Meeting
ATTACH;FMTTYPE=image/jpeg:https://anthemscouting.com/wp-content/uploads/2022/07/Pack-247-Pack-Meeting-cover-900x600-blue.jpg
END:VEVENT
BEGIN:VEVENT
DTSTART;TZID=America/Phoenix:20250318T180000
DTEND;TZID=America/Phoenix:20250318T190000
DTSTAMP:20260425T094542
CREATED:20240717T175327Z
LAST-MODIFIED:20240717T175327Z
UID:255317-1742320800-1742324400@anthemscouting.com
SUMMARY:Den Meetings
DESCRIPTION:Our Den meetings are typically the 1st and 3rd Tuesday of the month.
URL:https://anthemscouting.com/event/den-meetings-2025-03-18/
LOCATION:Ridgeline Highschool / Cross of Christ Church\, 39808 N Gavilan Peak Pkwy\, Anthem\, AZ\, 85086\, United States
CATEGORIES:Cub Scouts,Den Meeting
ATTACH;FMTTYPE=image/jpeg:https://anthemscouting.com/wp-content/uploads/2022/07/Pack-247-Pack-Meeting-cover-900x600-blue.jpg
END:VEVENT
BEGIN:VEVENT
DTSTART;TZID=America/Phoenix:20250401T180000
DTEND;TZID=America/Phoenix:20250401T190000
DTSTAMP:20260425T094542
CREATED:20240717T175409Z
LAST-MODIFIED:20240717T175409Z
UID:255320-1743530400-1743534000@anthemscouting.com
SUMMARY:Den Meetings
DESCRIPTION:Our Den meetings are typically the 1st and 3rd Tuesday of the month.
URL:https://anthemscouting.com/event/den-meetings-2025-04-01/
LOCATION:Ridgeline Highschool / Cross of Christ Church\, 39808 N Gavilan Peak Pkwy\, Anthem\, AZ\, 85086\, United States
CATEGORIES:Cub Scouts,Den Meeting
ATTACH;FMTTYPE=image/jpeg:https://anthemscouting.com/wp-content/uploads/2022/07/Pack-247-Pack-Meeting-cover-900x600-blue.jpg
END:VEVENT
BEGIN:VEVENT
DTSTART;TZID=America/Phoenix:20250422T180000
DTEND;TZID=America/Phoenix:20250422T190000
DTSTAMP:20260425T094542
CREATED:20240717T175516Z
LAST-MODIFIED:20250110T024354Z
UID:255325-1745344800-1745348400@anthemscouting.com
SUMMARY:Den Meetings
DESCRIPTION:Our Den meetings are typically the 1st and 3rd Tuesday of the month.
URL:https://anthemscouting.com/event/den-meetings-2025-04-22/
LOCATION:Ridgeline Highschool / Cross of Christ Church\, 39808 N Gavilan Peak Pkwy\, Anthem\, AZ\, 85086\, United States
CATEGORIES:Cub Scouts,Den Meeting
ATTACH;FMTTYPE=image/jpeg:https://anthemscouting.com/wp-content/uploads/2022/07/Pack-247-Pack-Meeting-cover-900x600-blue.jpg
END:VEVENT
BEGIN:VEVENT
DTSTART;TZID=America/Phoenix:20250506T180000
DTEND;TZID=America/Phoenix:20250506T190000
DTSTAMP:20260425T094542
CREATED:20240717T175722Z
LAST-MODIFIED:20240717T175722Z
UID:255327-1746554400-1746558000@anthemscouting.com
SUMMARY:Den Meetings
DESCRIPTION:Our Den meetings are typically the 1st and 3rd Tuesday of the month.
URL:https://anthemscouting.com/event/den-meetings-2025-05-06/
LOCATION:Ridgeline Highschool / Cross of Christ Church\, 39808 N Gavilan Peak Pkwy\, Anthem\, AZ\, 85086\, United States
CATEGORIES:Cub Scouts,Den Meeting
ATTACH;FMTTYPE=image/jpeg:https://anthemscouting.com/wp-content/uploads/2022/07/Pack-247-Pack-Meeting-cover-900x600-blue.jpg
END:VEVENT
BEGIN:VEVENT
DTSTART;TZID=America/Phoenix:20250805T180000
DTEND;TZID=America/Phoenix:20250805T190000
DTSTAMP:20260425T094542
CREATED:20250614T184825Z
LAST-MODIFIED:20250614T190033Z
UID:255708-1754416800-1754420400@anthemscouting.com
SUMMARY:Den Meetings
DESCRIPTION:Our Den meetings are typically the 1st and 3rd Tuesday of the month.
URL:https://anthemscouting.com/event/den-meeting-2025-08-05/
LOCATION:Ridgeline Highschool / Cross of Christ Church\, 39808 N Gavilan Peak Pkwy\, Anthem\, AZ\, 85086\, United States
CATEGORIES:Cub Scouts,Den Meeting
ATTACH;FMTTYPE=image/jpeg:https://anthemscouting.com/wp-content/uploads/2022/07/Pack-247-Pack-Meeting-cover-900x600-blue.jpg
END:VEVENT
BEGIN:VEVENT
DTSTART;TZID=America/Phoenix:20250819T180000
DTEND;TZID=America/Phoenix:20250819T190000
DTSTAMP:20260425T094542
CREATED:20250813T150733Z
LAST-MODIFIED:20250813T150733Z
UID:255817-1755626400-1755630000@anthemscouting.com
SUMMARY:Den Meetings
DESCRIPTION:Our Den Meetings are typically the 1st and 3rd Tuesday of the month.
URL:https://anthemscouting.com/event/den-meetings-2025-08-19/
LOCATION:Ridgeline Highschool / Cross of Christ Church\, 39808 N Gavilan Peak Pkwy\, Anthem\, AZ\, 85086\, United States
CATEGORIES:Cub Scouts,Den Meeting
ATTACH;FMTTYPE=image/jpeg:https://anthemscouting.com/wp-content/uploads/2022/07/Pack-247-Pack-Meeting-cover-900x600-blue.jpg
END:VEVENT
BEGIN:VEVENT
DTSTART;TZID=America/Phoenix:20250902T180000
DTEND;TZID=America/Phoenix:20250902T190000
DTSTAMP:20260425T094542
CREATED:20250615T214553Z
LAST-MODIFIED:20250615T214553Z
UID:255736-1756836000-1756839600@anthemscouting.com
SUMMARY:Den Meetings
DESCRIPTION:Our Den Meetings are typically the 1st and 3rd Tuesday of the month.
URL:https://anthemscouting.com/event/den-meetings-2025-09-02/
LOCATION:Ridgeline Highschool / Cross of Christ Church\, 39808 N Gavilan Peak Pkwy\, Anthem\, AZ\, 85086\, United States
CATEGORIES:Cub Scouts,Den Meeting
ATTACH;FMTTYPE=image/jpeg:https://anthemscouting.com/wp-content/uploads/2022/07/Pack-247-Pack-Meeting-cover-900x600-blue.jpg
END:VEVENT
BEGIN:VEVENT
DTSTART;TZID=America/Phoenix:20250916T180000
DTEND;TZID=America/Phoenix:20250916T190000
DTSTAMP:20260425T094542
CREATED:20250615T214546Z
LAST-MODIFIED:20250615T214546Z
UID:255734-1758045600-1758049200@anthemscouting.com
SUMMARY:Den Meetings
DESCRIPTION:Our Den Meetings are typically the 1st and 3rd Tuesday of the month.
URL:https://anthemscouting.com/event/den-meetings-2025-09-16/
LOCATION:Ridgeline Highschool / Cross of Christ Church\, 39808 N Gavilan Peak Pkwy\, Anthem\, AZ\, 85086\, United States
CATEGORIES:Cub Scouts,Den Meeting
ATTACH;FMTTYPE=image/jpeg:https://anthemscouting.com/wp-content/uploads/2022/07/Pack-247-Pack-Meeting-cover-900x600-blue.jpg
END:VEVENT
BEGIN:VEVENT
DTSTART;TZID=America/Phoenix:20250923T180000
DTEND;TZID=America/Phoenix:20250923T190000
DTSTAMP:20260425T094542
CREATED:20250615T214546Z
LAST-MODIFIED:20250615T214546Z
UID:255732-1758650400-1758654000@anthemscouting.com
SUMMARY:Den Meetings (optional)
DESCRIPTION:NOTE: This meeting is optional \nOur Den Meetings are typically on the 1st and 3rd Tuesday of the month.
URL:https://anthemscouting.com/event/den-meetings-2025-09-23/
LOCATION:Ridgeline Highschool / Cross of Christ Church\, 39808 N Gavilan Peak Pkwy\, Anthem\, AZ\, 85086\, United States
CATEGORIES:Cub Scouts,Den Meeting
ATTACH;FMTTYPE=image/jpeg:https://anthemscouting.com/wp-content/uploads/2022/07/Pack-247-Pack-Meeting-cover-900x600-blue.jpg
END:VEVENT
BEGIN:VEVENT
DTSTART;TZID=America/Phoenix:20250930T180000
DTEND;TZID=America/Phoenix:20250930T190000
DTSTAMP:20260425T094542
CREATED:20250615T214546Z
LAST-MODIFIED:20250615T214546Z
UID:255731-1759255200-1759258800@anthemscouting.com
SUMMARY:Den Meetings (optional)
DESCRIPTION:NOTE: This meeting is optional \nOur Den Meetings are typically on the 1st and 3rd Tuesday of the month.
URL:https://anthemscouting.com/event/den-meetings-2025-09-30/
LOCATION:Ridgeline Highschool / Cross of Christ Church\, 39808 N Gavilan Peak Pkwy\, Anthem\, AZ\, 85086\, United States
CATEGORIES:Cub Scouts,Den Meeting
ATTACH;FMTTYPE=image/jpeg:https://anthemscouting.com/wp-content/uploads/2022/07/Pack-247-Pack-Meeting-cover-900x600-blue.jpg
END:VEVENT
BEGIN:VEVENT
DTSTART;TZID=America/Phoenix:20251007T180000
DTEND;TZID=America/Phoenix:20251007T190000
DTSTAMP:20260425T094542
CREATED:20250615T214546Z
LAST-MODIFIED:20250615T214546Z
UID:255730-1759860000-1759863600@anthemscouting.com
SUMMARY:Den Meetings (off-site)
DESCRIPTION:NOTE: This meeting will be held off-site\, check with your Den Leader for details. \nOur Den Meetings are typically on the 1st and 3rd Tuesday of the month.
URL:https://anthemscouting.com/event/den-meetings-2025-10-17/
LOCATION:Ridgeline Highschool / Cross of Christ Church\, 39808 N Gavilan Peak Pkwy\, Anthem\, AZ\, 85086\, United States
CATEGORIES:Cub Scouts,Den Meeting
ATTACH;FMTTYPE=image/jpeg:https://anthemscouting.com/wp-content/uploads/2022/07/Pack-247-Pack-Meeting-cover-900x600-blue.jpg
END:VEVENT
BEGIN:VEVENT
DTSTART;TZID=America/Phoenix:20251021T180000
DTEND;TZID=America/Phoenix:20251021T190000
DTSTAMP:20260425T094542
CREATED:20250615T214546Z
LAST-MODIFIED:20250615T214546Z
UID:255728-1761069600-1761073200@anthemscouting.com
SUMMARY:Den Meetings
DESCRIPTION:Our Den Meetings are typically the 1st and 3rd Tuesday of the month.
URL:https://anthemscouting.com/event/den-meetings-2025-10-21/
LOCATION:Ridgeline Highschool / Cross of Christ Church\, 39808 N Gavilan Peak Pkwy\, Anthem\, AZ\, 85086\, United States
CATEGORIES:Cub Scouts,Den Meeting
ATTACH;FMTTYPE=image/jpeg:https://anthemscouting.com/wp-content/uploads/2022/07/Pack-247-Pack-Meeting-cover-900x600-blue.jpg
END:VEVENT
BEGIN:VEVENT
DTSTART;TZID=America/Phoenix:20251104T180000
DTEND;TZID=America/Phoenix:20251104T190000
DTSTAMP:20260425T094542
CREATED:20250615T214539Z
LAST-MODIFIED:20250615T214539Z
UID:255726-1762279200-1762282800@anthemscouting.com
SUMMARY:Den Meetings
DESCRIPTION:Our Den Meetings are typically the 1st and 3rd Tuesday of the month.
URL:https://anthemscouting.com/event/den-meetings-2025-11-04/
LOCATION:Ridgeline Highschool / Cross of Christ Church\, 39808 N Gavilan Peak Pkwy\, Anthem\, AZ\, 85086\, United States
CATEGORIES:Cub Scouts,Den Meeting
ATTACH;FMTTYPE=image/jpeg:https://anthemscouting.com/wp-content/uploads/2022/07/Pack-247-Pack-Meeting-cover-900x600-blue.jpg
END:VEVENT
BEGIN:VEVENT
DTSTART;TZID=America/Phoenix:20251202T180000
DTEND;TZID=America/Phoenix:20251202T190000
DTSTAMP:20260425T094542
CREATED:20250615T214539Z
LAST-MODIFIED:20250615T214539Z
UID:255721-1764698400-1764702000@anthemscouting.com
SUMMARY:Den Meetings
DESCRIPTION:Our Den Meetings are typically the 1st and 3rd Tuesday of the month.
URL:https://anthemscouting.com/event/den-meetings-2025-12-02/
LOCATION:Ridgeline Highschool / Cross of Christ Church\, 39808 N Gavilan Peak Pkwy\, Anthem\, AZ\, 85086\, United States
CATEGORIES:Cub Scouts,Den Meeting
ATTACH;FMTTYPE=image/jpeg:https://anthemscouting.com/wp-content/uploads/2022/07/Pack-247-Pack-Meeting-cover-900x600-blue.jpg
END:VEVENT
BEGIN:VEVENT
DTSTART;TZID=America/Phoenix:20260106T180000
DTEND;TZID=America/Phoenix:20260106T190000
DTSTAMP:20260425T094542
CREATED:20251216T173606Z
LAST-MODIFIED:20251216T173606Z
UID:255834-1767722400-1767726000@anthemscouting.com
SUMMARY:Den Meetings
DESCRIPTION:Our Den Meetings are typically the 1st and 3rd Tuesday of the month.
URL:https://anthemscouting.com/event/den-meetings-2026-01-06/
LOCATION:Ridgeline Highschool / Cross of Christ Church\, 39808 N Gavilan Peak Pkwy\, Anthem\, AZ\, 85086\, United States
CATEGORIES:Cub Scouts,Den Meeting
ATTACH;FMTTYPE=image/jpeg:https://anthemscouting.com/wp-content/uploads/2022/07/Pack-247-Pack-Meeting-cover-900x600-blue.jpg
END:VEVENT
BEGIN:VEVENT
DTSTART;TZID=America/Phoenix:20260120T180000
DTEND;TZID=America/Phoenix:20260120T190000
DTSTAMP:20260425T094542
CREATED:20251216T173606Z
LAST-MODIFIED:20251216T173606Z
UID:255832-1768932000-1768935600@anthemscouting.com
SUMMARY:Den Meetings
DESCRIPTION:Our Den Meetings are typically the 1st and 3rd Tuesday of the month.
URL:https://anthemscouting.com/event/den-meetings-2026-01-20/
LOCATION:Ridgeline Highschool / Cross of Christ Church\, 39808 N Gavilan Peak Pkwy\, Anthem\, AZ\, 85086\, United States
CATEGORIES:Cub Scouts,Den Meeting
ATTACH;FMTTYPE=image/jpeg:https://anthemscouting.com/wp-content/uploads/2022/07/Pack-247-Pack-Meeting-cover-900x600-blue.jpg
END:VEVENT
BEGIN:VEVENT
DTSTART;TZID=America/Phoenix:20260203T180000
DTEND;TZID=America/Phoenix:20260203T190000
DTSTAMP:20260425T094542
CREATED:20251228T142926Z
LAST-MODIFIED:20251228T142927Z
UID:255843-1770141600-1770145200@anthemscouting.com
SUMMARY:Den Meetings
DESCRIPTION:Our Den Meetings are typically the 1st and 3rd Tuesday of the month.
URL:https://anthemscouting.com/event/den-meetings-2026-02-03/
LOCATION:Ridgeline Highschool / Cross of Christ Church\, 39808 N Gavilan Peak Pkwy\, Anthem\, AZ\, 85086\, United States
CATEGORIES:Cub Scouts,Den Meeting
ATTACH;FMTTYPE=image/jpeg:https://anthemscouting.com/wp-content/uploads/2022/07/Pack-247-Pack-Meeting-cover-900x600-blue.jpg
END:VEVENT
BEGIN:VEVENT
DTSTART;TZID=America/Phoenix:20260217T180000
DTEND;TZID=America/Phoenix:20260217T190000
DTSTAMP:20260425T094542
CREATED:20251228T142926Z
LAST-MODIFIED:20251228T142927Z
UID:255845-1771351200-1771354800@anthemscouting.com
SUMMARY:Den Meetings
DESCRIPTION:Our Den Meetings are typically the 1st and 3rd Tuesday of the month.
URL:https://anthemscouting.com/event/den-meetings-2026-02-17/
LOCATION:Ridgeline Highschool / Cross of Christ Church\, 39808 N Gavilan Peak Pkwy\, Anthem\, AZ\, 85086\, United States
CATEGORIES:Cub Scouts,Den Meeting
ATTACH;FMTTYPE=image/jpeg:https://anthemscouting.com/wp-content/uploads/2022/07/Pack-247-Pack-Meeting-cover-900x600-blue.jpg
END:VEVENT
BEGIN:VEVENT
DTSTART;TZID=America/Phoenix:20260303T180000
DTEND;TZID=America/Phoenix:20260303T190000
DTSTAMP:20260425T094542
CREATED:20251228T142926Z
LAST-MODIFIED:20251228T142927Z
UID:255847-1772560800-1772564400@anthemscouting.com
SUMMARY:Den Meetings
DESCRIPTION:Our Den Meetings are typically the 1st and 3rd Tuesday of the month.
URL:https://anthemscouting.com/event/den-meetings-2026-03-03/
LOCATION:Ridgeline Highschool / Cross of Christ Church\, 39808 N Gavilan Peak Pkwy\, Anthem\, AZ\, 85086\, United States
CATEGORIES:Cub Scouts,Den Meeting
ATTACH;FMTTYPE=image/jpeg:https://anthemscouting.com/wp-content/uploads/2022/07/Pack-247-Pack-Meeting-cover-900x600-blue.jpg
END:VEVENT
BEGIN:VEVENT
DTSTART;TZID=America/Phoenix:20260317T180000
DTEND;TZID=America/Phoenix:20260317T190000
DTSTAMP:20260425T094542
CREATED:20251228T142927Z
LAST-MODIFIED:20251228T142927Z
UID:255849-1773770400-1773774000@anthemscouting.com
SUMMARY:Den Meetings
DESCRIPTION:Our Den Meetings are typically the 1st and 3rd Tuesday of the month.
URL:https://anthemscouting.com/event/den-meetings-2026-03-17/
LOCATION:Ridgeline Highschool / Cross of Christ Church\, 39808 N Gavilan Peak Pkwy\, Anthem\, AZ\, 85086\, United States
CATEGORIES:Cub Scouts,Den Meeting
ATTACH;FMTTYPE=image/jpeg:https://anthemscouting.com/wp-content/uploads/2022/07/Pack-247-Pack-Meeting-cover-900x600-blue.jpg
END:VEVENT
BEGIN:VEVENT
DTSTART;TZID=America/Phoenix:20260324T180000
DTEND;TZID=America/Phoenix:20260324T190000
DTSTAMP:20260425T094542
CREATED:20251228T142927Z
LAST-MODIFIED:20251228T144753Z
UID:255850-1774375200-1774378800@anthemscouting.com
SUMMARY:Den Meetings (optional)
DESCRIPTION:NOTE: This meeting is optional \nOur Den Meetings are typically on the 1st and 3rd Tuesday of the month.
URL:https://anthemscouting.com/event/den-meetings-optional-2026-03-24/
LOCATION:Ridgeline Highschool / Cross of Christ Church\, 39808 N Gavilan Peak Pkwy\, Anthem\, AZ\, 85086\, United States
CATEGORIES:Cub Scouts,Den Meeting
ATTACH;FMTTYPE=image/jpeg:https://anthemscouting.com/wp-content/uploads/2022/07/Pack-247-Pack-Meeting-cover-900x600-blue.jpg
END:VEVENT
END:VCALENDAR